BEGIN:VCALENDAR
VERSION:2.0
PRODID:-//A WordPress Site - ECPv6.15.20//NONSGML v1.0//EN
CALSCALE:GREGORIAN
METHOD:PUBLISH
X-WR-CALNAME:A WordPress Site
X-ORIGINAL-URL:https://reach4housing.org
X-WR-CALDESC:Events for A WordPress Site
REFRESH-INTERVAL;VALUE=DURATION:PT1H
X-Robots-Tag:noindex
X-PUBLISHED-TTL:PT1H
BEGIN:VTIMEZONE
TZID:UTC
BEGIN:STANDARD
TZOFFSETFROM:+0000
TZOFFSETTO:+0000
TZNAME:UTC
DTSTART:20190101T000000
END:STANDARD
END:VTIMEZONE
BEGIN:VEVENT
DTSTART;TZID=UTC:20200314T100000
DTEND;TZID=UTC:20200314T160000
DTSTAMP:20260422T140458
CREATED:20191223T175408Z
LAST-MODIFIED:20191223T175408Z
UID:1825-1584180000-1584201600@reach4housing.org
SUMMARY:FIRST TIME HOMEBUYER WORKSHOP- BROWARD
DESCRIPTION:First Time Homebuyer Workshop \nSaturday March 14\, 2020 \n10:00am—4:00pm \n$49.00 Tuition Fee  \n  \nDuring this workshop\, you will: \n ¨ Learn the Homebuying Process from Start to Finish \n¨ Learn How to Avoid Costly Mortgage Mistakes \n¨ Hear Tips on How to Prepare Your Budget and Credit for a Mortgage \n¨ Learn About Home Inspections\, Homeowners Insurance\, and Title \n¨ Earn Required Certificate for Pre-Purchase Education
URL:https://reach4housing.org/event/first-time-homebuyer-workshop-broward/
LOCATION:FL
END:VEVENT
END:VCALENDAR