BEGIN:VCALENDAR
VERSION:2.0
PRODID:-//A WordPress Site - ECPv6.15.20//NONSGML v1.0//EN
CALSCALE:GREGORIAN
METHOD:PUBLISH
X-ORIGINAL-URL:https://reach4housing.org
X-WR-CALDESC:Events for A WordPress Site
REFRESH-INTERVAL;VALUE=DURATION:PT1H
X-Robots-Tag:noindex
X-PUBLISHED-TTL:PT1H
BEGIN:VTIMEZONE
TZID:UTC
BEGIN:STANDARD
TZOFFSETFROM:+0000
TZOFFSETTO:+0000
TZNAME:UTC
DTSTART:20190101T000000
END:STANDARD
END:VTIMEZONE
BEGIN:VEVENT
DTSTART;TZID=UTC:20201018T110000
DTEND;TZID=UTC:20201018T190000
DTSTAMP:20260422T013300
CREATED:20191212T194527Z
LAST-MODIFIED:20191212T194527Z
UID:1757-1603018800-1603047600@reach4housing.org
SUMMARY:FIRST TIME HOMEBUYER WORKSHOP-MIAMI/KENDALL
DESCRIPTION:First Time Homebuyer Workshop\nEn Espanol and In English \nSunday\, OCTOBER 18\, 2020\n11:00am – 7:00pm\nWhere: 9010 SW 137th Avenue\, Suite 116\, Miami FL 33186 \nCost: FREE for Miami Dade Residents \nall other cities $49 \nWhen preparing to buy your first home\, it’s important to plan ahead so you can manage your finances and be a successful homeowner. \nOur Homebuyer Education course will help you make sound decisions when buying a home.  It will not only help you save\, but will increase your knowledge of the home buying process. \nDo you wonder… \n\nIf you could buy your own home?\nHow you could qualify for a mortgage?\nWhat your credit report means?\n\nIf you answered yes to at least one of these questions\, this workshop is for you. \nDuring this workshop\, you will… \n\nFind out how you can qualify for up to $80\,000 in down payment assistance.\nUnderstand the home buying process from start to finish.\nDetermine how much you can afford.\nLearn about tax benefits of homeownership.\n\n  \nTo register for this class\, send email to housing@reach4housing.org   or call 786-260-6820 \n  \n** Children under the age of 18 WILL NOT BE ADMITTED to workshops conducted by REACH. We are sorry for any inconvenience this may cause. 
URL:https://reach4housing.org/event/first-time-homebuyer-workshop-miami-kendall-22/
LOCATION:FL
END:VEVENT
END:VCALENDAR