BEGIN:VCALENDAR
VERSION:2.0
PRODID:-//A WordPress Site - ECPv6.15.20//NONSGML v1.0//EN
CALSCALE:GREGORIAN
METHOD:PUBLISH
X-ORIGINAL-URL:https://reach4housing.org
X-WR-CALDESC:Events for A WordPress Site
REFRESH-INTERVAL;VALUE=DURATION:PT1H
X-Robots-Tag:noindex
X-PUBLISHED-TTL:PT1H
BEGIN:VTIMEZONE
TZID:America/New_York
BEGIN:DAYLIGHT
TZOFFSETFROM:-0500
TZOFFSETTO:-0400
TZNAME:EDT
DTSTART:20210314T070000
END:DAYLIGHT
BEGIN:STANDARD
TZOFFSETFROM:-0400
TZOFFSETTO:-0500
TZNAME:EST
DTSTART:20211107T060000
END:STANDARD
BEGIN:DAYLIGHT
TZOFFSETFROM:-0500
TZOFFSETTO:-0400
TZNAME:EDT
DTSTART:20220313T070000
END:DAYLIGHT
BEGIN:STANDARD
TZOFFSETFROM:-0400
TZOFFSETTO:-0500
TZNAME:EST
DTSTART:20221106T060000
END:STANDARD
BEGIN:DAYLIGHT
TZOFFSETFROM:-0500
TZOFFSETTO:-0400
TZNAME:EDT
DTSTART:20230312T070000
END:DAYLIGHT
BEGIN:STANDARD
TZOFFSETFROM:-0400
TZOFFSETTO:-0500
TZNAME:EST
DTSTART:20231105T060000
END:STANDARD
END:VTIMEZONE
BEGIN:VEVENT
DTSTART;TZID=America/New_York:20220521T083000
DTEND;TZID=America/New_York:20220521T160000
DTSTAMP:20260420T193136
CREATED:20220505T111305Z
LAST-MODIFIED:20220505T111305Z
UID:6432-1653121800-1653148800@reach4housing.org
SUMMARY:In-Person 8-Hr Homebuyer Education Workshop
DESCRIPTION:Join us on Saturday\, May 21\, 2022\, for an in-person 8-hour Homebuyer Education Workshop from 8:30 am to 4 pm. This FREE workshop in partnership with University Area CDC will get you prepared to purchase a home. No need to bring lunch\, we’ve got you covered!\n			\n				\n				\n				\n				\n				\n			\n				\n				\n				\n				\n				Scan the QR code above or click the button below to sign up\n			\n				Click here to sign up
URL:https://reach4housing.org/event/in-person-8-hr-workshop-homebuyer-education/
LOCATION:FL
CATEGORIES:Homebuyer
END:VEVENT
BEGIN:VEVENT
DTSTART;TZID=America/New_York:20220521T100000
DTEND;TZID=America/New_York:20220521T160000
DTSTAMP:20260420T193136
CREATED:20211108T140837Z
LAST-MODIFIED:20211108T140837Z
UID:4662-1653127200-1653148800@reach4housing.org
SUMMARY:6hr First Time Homebuyer Workshop
DESCRIPTION:Classes are available in English\, Spanish\, and Creole.\nThis 6-hour workshop is ONLY for first-time homebuyers who live in a city or county that requires 6 hours to qualify for down payment and/or closing cost assistance.*\n*Miami-Dade\, Broward\, Palm Beach\, and surrounding counties\nEffective April 1\, 2022\, there is a fee for Homebuyer Education classes – $45 per person. Scholarships are available for Miami-Dade County attendees.\nDo you wonder… \n• If you could buy your own home?• How you can qualify for a mortgage?• What your credit report means? \nIf you ask yourself these questions\, this workshop is for you. \n			\n			\n				\n				\n				\n				\n			\n				\n				\n				\n				\n				\n				\n				\n				\n				\n				\n				Step 1\n			\n				\n				\n				\n				\n				To register for the class in English\, click the button below. \n			\n				Register Now\n			\n			\n				\n				\n				\n				\n				\n				\n				\n				\n				\n				Step 2\n			\n				\n				\n				\n				\n				Please click the button below and fill out our intake form. \n			\n				Intake Form\n			\n				\n				\n				\n				\n				You must complete the intake form in order to receive your certificate of completion. \n			\n			\n				\n				\n				\n				\n			\n				\n				\n				\n				\n				\n				\n				\n				\n				\n				\n				\n			\n				\n				\n				\n				\n				Las clases están disponibles en inglés\, español y creole.\nEste taller de 6 horas es SOLO para compradores de vivienda por primera vez que viven en una ciudad o condado que requiere 6 horas para calificar para el pago inicial y / o asistencia con los costos de cierre.*\n* Miami-Dade\, Broward\, Palm Beach\, y condados circundantes\nEfectivo del Abril 1\, 2022\, hay una tarifa para las clases de educación para compradores de vivienda: $45 por persona. Hay becas disponibles para los asistentes del condado de Miami-Dade.\nTe preguntas \n• ¿Puedo Comprar mi casa?  \n• ¿Cómo puedo calificar para una hipoteca?  \n• ¿Qué significa el informe de crédito?  \nSi te haces UNA o MAS de estas preguntas\, este taller es para UD.  \n			\n			\n				\n				\n				\n				\n			\n				\n				\n				\n				\n				\n				\n				\n				\n				\n				\n				Paso 1\n			\n				\n				\n				\n				\n				Para inscribirse en la clase en español\, haga clic en el botón de abajo. \n			\n				Regístrate Ahora\n			\n			\n				\n				\n				\n				\n				\n				\n				\n				\n				\n				Paso 2\n			\n				\n				\n				\n				\n				Haga clic en el botón de abajo y complete el formulario de admisión. \n			\n				Intake Form\n			\n				\n				\n				\n				\n				Debe completar el formulario de admisión para recibir su certificado de finalización.
URL:https://reach4housing.org/event/6hr-first-time-homebuyer-workshop-10/
LOCATION:FL
CATEGORIES:Homebuyer
END:VEVENT
END:VCALENDAR