BEGIN:VCALENDAR
VERSION:2.0
PRODID:-//A WordPress Site - ECPv6.15.20//NONSGML v1.0//EN
CALSCALE:GREGORIAN
METHOD:PUBLISH
X-WR-CALNAME:A WordPress Site
X-ORIGINAL-URL:https://reach4housing.org
X-WR-CALDESC:Events for A WordPress Site
REFRESH-INTERVAL;VALUE=DURATION:PT1H
X-Robots-Tag:noindex
X-PUBLISHED-TTL:PT1H
BEGIN:VTIMEZONE
TZID:America/New_York
BEGIN:DAYLIGHT
TZOFFSETFROM:-0500
TZOFFSETTO:-0400
TZNAME:EDT
DTSTART:20210314T070000
END:DAYLIGHT
BEGIN:STANDARD
TZOFFSETFROM:-0400
TZOFFSETTO:-0500
TZNAME:EST
DTSTART:20211107T060000
END:STANDARD
BEGIN:DAYLIGHT
TZOFFSETFROM:-0500
TZOFFSETTO:-0400
TZNAME:EDT
DTSTART:20220313T070000
END:DAYLIGHT
BEGIN:STANDARD
TZOFFSETFROM:-0400
TZOFFSETTO:-0500
TZNAME:EST
DTSTART:20221106T060000
END:STANDARD
BEGIN:DAYLIGHT
TZOFFSETFROM:-0500
TZOFFSETTO:-0400
TZNAME:EDT
DTSTART:20230312T070000
END:DAYLIGHT
BEGIN:STANDARD
TZOFFSETFROM:-0400
TZOFFSETTO:-0500
TZNAME:EST
DTSTART:20231105T060000
END:STANDARD
END:VTIMEZONE
BEGIN:VEVENT
DTSTART;TZID=America/New_York:20220607T180000
DTEND;TZID=America/New_York:20220607T200000
DTSTAMP:20260420T172943
CREATED:20220524T092543Z
LAST-MODIFIED:20220524T092543Z
UID:6503-1654624800-1654632000@reach4housing.org
SUMMARY:Virtual Foreclosure Prevention Clinic
DESCRIPTION:This FREE Virtual Foreclosure Prevention Workshop on Tuesday\, June 7\, 2022\, from 6 – 8 pm will provide opportunities to learn about the foreclosure process\, connect with our housing counselors\, and explore options to keep your home. If you are facing foreclosure on your home or just want useful information about the foreclosure process\, we highly recommend taking this 2-hour virtual educational workshop.\n			\n				\n				\n				\n				\n				\n			\n				Click here to register
URL:https://reach4housing.org/event/virtual-foreclosure-prevention-clinic/
LOCATION:FL
CATEGORIES:Foreclosure
END:VEVENT
END:VCALENDAR