BEGIN:VCALENDAR
VERSION:2.0
PRODID:-//A WordPress Site - ECPv6.15.20//NONSGML v1.0//EN
CALSCALE:GREGORIAN
METHOD:PUBLISH
X-ORIGINAL-URL:https://reach4housing.org
X-WR-CALDESC:Events for A WordPress Site
REFRESH-INTERVAL;VALUE=DURATION:PT1H
X-Robots-Tag:noindex
X-PUBLISHED-TTL:PT1H
BEGIN:VTIMEZONE
TZID:America/New_York
BEGIN:DAYLIGHT
TZOFFSETFROM:-0500
TZOFFSETTO:-0400
TZNAME:EDT
DTSTART:20210314T070000
END:DAYLIGHT
BEGIN:STANDARD
TZOFFSETFROM:-0400
TZOFFSETTO:-0500
TZNAME:EST
DTSTART:20211107T060000
END:STANDARD
BEGIN:DAYLIGHT
TZOFFSETFROM:-0500
TZOFFSETTO:-0400
TZNAME:EDT
DTSTART:20220313T070000
END:DAYLIGHT
BEGIN:STANDARD
TZOFFSETFROM:-0400
TZOFFSETTO:-0500
TZNAME:EST
DTSTART:20221106T060000
END:STANDARD
BEGIN:DAYLIGHT
TZOFFSETFROM:-0500
TZOFFSETTO:-0400
TZNAME:EDT
DTSTART:20230312T070000
END:DAYLIGHT
BEGIN:STANDARD
TZOFFSETFROM:-0400
TZOFFSETTO:-0500
TZNAME:EST
DTSTART:20231105T060000
END:STANDARD
END:VTIMEZONE
BEGIN:VEVENT
DTSTART;TZID=America/New_York:20220716T100000
DTEND;TZID=America/New_York:20220716T160000
DTSTAMP:20260420T161252
CREATED:20211109T095942Z
LAST-MODIFIED:20211109T095942Z
UID:4690-1657965600-1657987200@reach4housing.org
SUMMARY:6hr First Time Homebuyer Workshop
DESCRIPTION:Classes are available in English\, Spanish\, and Creole.\nThis 6-hour workshop is ONLY for first-time homebuyers who live in a city or county that requires 6 hours to qualify for down payment and/or closing cost assistance.*\n*Miami-Dade\, Broward\, Palm Beach\, and surrounding counties\nEffective April 1\, 2022\, there is a fee for Homebuyer Education classes – $49 per person. Scholarships are available for Miami-Dade County attendees.Call 855-48-REACH to see if eligible. \nNote: For those individuals without a scholarship requiring a 2-hour one-on-one counseling session\, an additional fee of $45 will be charged.\nDo you wonder… \n• If you could buy your own home?• How you can qualify for a mortgage?• What your credit report means? \nIf you ask yourself these questions\, this workshop is for you. \n			\n			\n				\n				\n				\n				\n			\n				\n				\n				\n				\n				\n				\n				\n				\n				\n				\n				Step 1\n			\n				\n				\n				\n				\n				To register for the class in English\, click the button below. \n			\n				Register Now\n			\n			\n				\n				\n				\n				\n				\n				\n				\n				\n				\n				Step 2\n			\n				\n				\n				\n				\n				Please click the button below and fill out our intake form. \n			\n				Intake Form\n			\n				\n				\n				\n				\n				You must complete the intake form in order to receive your certificate of completion. \n			\n			\n				\n				\n				\n				\n			\n				\n				\n				\n				\n				\n				\n				\n				\n				\n				\n				\n			\n				\n				\n				\n				\n				Las clases están disponibles en inglés\, español y creole.\nEste taller de 6 horas es SOLO para compradores de vivienda por primera vez que viven en una ciudad o condado que requiere 6 horas para calificar para el pago inicial y / o asistencia con los costos de cierre.*\n* Miami-Dade\, Broward\, Palm Beach\, y condados circundantes\nEfectivo del Abril 1\, 2022\, hay una tarifa para las clases de educación para compradores de vivienda: $49 por persona. Hay becas disponibles para los asistentes del condado de Miami-Dade. \nNota: Para aquellas personas que no tengan una beca y requiera una sesión de asesoramiento individual de 2 horas\, se cobrará una tarifa adicional de $45.\nTe preguntas \n• ¿Puedo Comprar mi casa?  \n• ¿Cómo puedo calificar para una hipoteca?  \n• ¿Qué significa el informe de crédito?  \nSi te haces UNA o MAS de estas preguntas\, este taller es para UD.  \n			\n			\n				\n				\n				\n				\n			\n				\n				\n				\n				\n				\n				\n				\n				\n				\n				\n				Paso 1\n			\n				\n				\n				\n				\n				Para inscribirse en la clase en español\, haga clic en el botón de abajo. \n			\n				Regístrate Ahora\n			\n			\n				\n				\n				\n				\n				\n				\n				\n				\n				\n				Paso 2\n			\n				\n				\n				\n				\n				Haga clic en el botón de abajo y complete el formulario de admisión. \n			\n				Intake Form\n			\n				\n				\n				\n				\n				Debe completar el formulario de admisión para recibir su certificado de finalización.
URL:https://reach4housing.org/event/6hr-first-time-homebuyer-workshop-13/
LOCATION:FL
CATEGORIES:Homebuyer
END:VEVENT
END:VCALENDAR