BEGIN:VCALENDAR
VERSION:2.0
PRODID:-//A WordPress Site - ECPv6.15.20//NONSGML v1.0//EN
CALSCALE:GREGORIAN
METHOD:PUBLISH
X-ORIGINAL-URL:https://reach4housing.org
X-WR-CALDESC:Events for A WordPress Site
REFRESH-INTERVAL;VALUE=DURATION:PT1H
X-Robots-Tag:noindex
X-PUBLISHED-TTL:PT1H
BEGIN:VTIMEZONE
TZID:America/New_York
BEGIN:DAYLIGHT
TZOFFSETFROM:-0500
TZOFFSETTO:-0400
TZNAME:EDT
DTSTART:20210314T070000
END:DAYLIGHT
BEGIN:STANDARD
TZOFFSETFROM:-0400
TZOFFSETTO:-0500
TZNAME:EST
DTSTART:20211107T060000
END:STANDARD
BEGIN:DAYLIGHT
TZOFFSETFROM:-0500
TZOFFSETTO:-0400
TZNAME:EDT
DTSTART:20220313T070000
END:DAYLIGHT
BEGIN:STANDARD
TZOFFSETFROM:-0400
TZOFFSETTO:-0500
TZNAME:EST
DTSTART:20221106T060000
END:STANDARD
BEGIN:DAYLIGHT
TZOFFSETFROM:-0500
TZOFFSETTO:-0400
TZNAME:EDT
DTSTART:20230312T070000
END:DAYLIGHT
BEGIN:STANDARD
TZOFFSETFROM:-0400
TZOFFSETTO:-0500
TZNAME:EST
DTSTART:20231105T060000
END:STANDARD
END:VTIMEZONE
BEGIN:VEVENT
DTSTART;TZID=America/New_York:20220723T083000
DTEND;TZID=America/New_York:20220723T160000
DTSTAMP:20260420T160508
CREATED:20220505T112423Z
LAST-MODIFIED:20220505T112423Z
UID:6451-1658565000-1658592000@reach4housing.org
SUMMARY:In-Person 8-Hour Homebuyer Education Workshop
DESCRIPTION:Join us on Saturday\, July 23\, 2022\, for an in-person 8-hour Homebuyer Education Workshop from 8:30 am to 4 pm. This FREE workshop in partnership with University Area CDC will get you prepared to purchase a home. No need to bring lunch\, we’ve got you covered!\n			\n				\n				\n				\n				\n				\n			\n				\n				\n				\n				\n				Scan the QR code above or click the button below to sign up\n			\n				Click here to sign up
URL:https://reach4housing.org/event/in-person-8-hr-homebuyer-education-workshop-2/
LOCATION:FL
END:VEVENT
END:VCALENDAR