BEGIN:VCALENDAR
VERSION:2.0
PRODID:-//A WordPress Site - ECPv6.15.20//NONSGML v1.0//EN
CALSCALE:GREGORIAN
METHOD:PUBLISH
X-ORIGINAL-URL:https://reach4housing.org
X-WR-CALDESC:Events for A WordPress Site
REFRESH-INTERVAL;VALUE=DURATION:PT1H
X-Robots-Tag:noindex
X-PUBLISHED-TTL:PT1H
BEGIN:VTIMEZONE
TZID:America/New_York
BEGIN:DAYLIGHT
TZOFFSETFROM:-0500
TZOFFSETTO:-0400
TZNAME:EDT
DTSTART:20210314T070000
END:DAYLIGHT
BEGIN:STANDARD
TZOFFSETFROM:-0400
TZOFFSETTO:-0500
TZNAME:EST
DTSTART:20211107T060000
END:STANDARD
BEGIN:DAYLIGHT
TZOFFSETFROM:-0500
TZOFFSETTO:-0400
TZNAME:EDT
DTSTART:20220313T070000
END:DAYLIGHT
BEGIN:STANDARD
TZOFFSETFROM:-0400
TZOFFSETTO:-0500
TZNAME:EST
DTSTART:20221106T060000
END:STANDARD
BEGIN:DAYLIGHT
TZOFFSETFROM:-0500
TZOFFSETTO:-0400
TZNAME:EDT
DTSTART:20230312T070000
END:DAYLIGHT
BEGIN:STANDARD
TZOFFSETFROM:-0400
TZOFFSETTO:-0500
TZNAME:EST
DTSTART:20231105T060000
END:STANDARD
END:VTIMEZONE
BEGIN:VEVENT
DTSTART;TZID=America/New_York:20221008T083000
DTEND;TZID=America/New_York:20221008T160000
DTSTAMP:20260420T114013
CREATED:20211109T105705Z
LAST-MODIFIED:20211109T105705Z
UID:4733-1665217800-1665244800@reach4housing.org
SUMMARY:8hr First Time Homebuyer Workshop
DESCRIPTION:Class is available in English ONLY\nThis 8-hour workshop is ONLY for first-time homebuyers who live in a city or county that requires 8 hours to qualify for down payment and/or closing cost assistance.*\n*Hillsborough\, Pinellas\, Pasco and surrounding counties\nEffective April 1\, 2022\, there is a fee for Homebuyer Education classes – $49 per person. Scholarships are available for City of Tampa eligible attendees. Call 855-48-REACH to see if eligible. \nNote: For those individuals without a scholarship and a 2-hour one-on-one counseling session is required\, an additional fee of $45 will be charged.\nDo you wonder… \n• If you could buy your own home?• How you can qualify for a mortgage?• What your credit report means? \nIf you ask yourself these questions\, this workshop is for you. \n			\n			\n				\n				\n				\n				\n			\n				\n				\n				\n				\n				\n				\n				\n				\n				\n				\n				Step 1\n			\n				\n				\n				\n				\n				To register for the class in English\, click the button below. \n			\n				Register Now\n			\n			\n				\n				\n				\n				\n				\n				\n				\n				\n				\n				Step 2\n			\n				\n				\n				\n				\n				Please click the button below and fill out our intake form. \n			\n				Intake Form\n			\n				\n				\n				\n				\n				You must complete the intake form in order to receive your certificate of completion.
URL:https://reach4housing.org/event/8hr-first-time-homebuyer-workshop-10/
LOCATION:FL
CATEGORIES:Homebuyer
END:VEVENT
END:VCALENDAR