BEGIN:VCALENDAR
VERSION:2.0
PRODID:-//A WordPress Site - ECPv6.15.20//NONSGML v1.0//EN
CALSCALE:GREGORIAN
METHOD:PUBLISH
X-ORIGINAL-URL:https://reach4housing.org
X-WR-CALDESC:Events for A WordPress Site
REFRESH-INTERVAL;VALUE=DURATION:PT1H
X-Robots-Tag:noindex
X-PUBLISHED-TTL:PT1H
BEGIN:VTIMEZONE
TZID:America/New_York
BEGIN:DAYLIGHT
TZOFFSETFROM:-0500
TZOFFSETTO:-0400
TZNAME:EDT
DTSTART:20220313T070000
END:DAYLIGHT
BEGIN:STANDARD
TZOFFSETFROM:-0400
TZOFFSETTO:-0500
TZNAME:EST
DTSTART:20221106T060000
END:STANDARD
BEGIN:DAYLIGHT
TZOFFSETFROM:-0500
TZOFFSETTO:-0400
TZNAME:EDT
DTSTART:20230312T070000
END:DAYLIGHT
BEGIN:STANDARD
TZOFFSETFROM:-0400
TZOFFSETTO:-0500
TZNAME:EST
DTSTART:20231105T060000
END:STANDARD
BEGIN:DAYLIGHT
TZOFFSETFROM:-0500
TZOFFSETTO:-0400
TZNAME:EDT
DTSTART:20240310T070000
END:DAYLIGHT
BEGIN:STANDARD
TZOFFSETFROM:-0400
TZOFFSETTO:-0500
TZNAME:EST
DTSTART:20241103T060000
END:STANDARD
END:VTIMEZONE
BEGIN:VEVENT
DTSTART;TZID=America/New_York:20230211T100000
DTEND;TZID=America/New_York:20230211T160000
DTSTAMP:20260420T050212
CREATED:20221128T132407Z
LAST-MODIFIED:20221128T132407Z
UID:7175-1676109600-1676131200@reach4housing.org
SUMMARY:6-hour – Miami-Dade and surrounding counties
DESCRIPTION:Classes are available in English\, Spanish\, and Creole. \nThis 6-hour workshop is ONLY for first-time homebuyers who live in a city or county that requires 6 hours to qualify for down payment and/or closing cost assistance. * \n*Miami-Dade\, Broward\, Palm Beach\, and surrounding counties \nEffective 2/2/2023\, there is a fee for Homebuyer Education classes – $69 per person. Scholarships are available for Miami-Dade County attendees. Note: For those individuals without a scholarship and a 2-hour one-on-one counseling session is required\, an additional fee of $65 will be charged. \nDo you wonder… \n\nIf you could buy your own home?\n• How can you qualify for a mortgage?\n• What does your credit report mean?\n\nIf you ask yourself these questions\, this workshop is for you. \nRegister now\, click this link: https://attendee.gotowebinar.com/register/4619302762687709710
URL:https://reach4housing.org/event/6-hour-miami-dade-and-surrounding-counties-2/
LOCATION:FL
END:VEVENT
BEGIN:VEVENT
DTSTART;TZID=America/New_York:20230211T100000
DTEND;TZID=America/New_York:20230211T160000
DTSTAMP:20260420T050212
CREATED:20221128T154031Z
LAST-MODIFIED:20221128T154031Z
UID:7205-1676109600-1676131200@reach4housing.org
SUMMARY:6 horas: Miami-Dade y Condados del alrededor
DESCRIPTION:Las clases están disponibles en inglés\, español y criollo. \n  \nEste taller de 6 horas es SOLO para compradores de vivienda por primera vez que viven en una ciudad o condado que requiere 6 horas para aplicar al pago inicial y/o asistencia para los costos de cierre.* \n  \n*Miami-Dade\, Broward\, Palm Beach y condados alrededor. \n  \nA partir del 2/2/2023\, hay un costo para las clases de educación para compradores de vivienda: $69 por persona. Las becas están disponibles para los participantes del condado de Miami-Dade. Nota: Para aquellas personas que no tengan una beca y se requiera una sesión de asesoramiento individual de 2 horas\, se cobrará una tarifa adicional de $65. \n  \nTe preguntas… \n\n¿Si pudieras comprar tu propia casa?\n¿Cómo puedes calificar para una hipoteca?\n¿Qué significa su reporte de crédito?\n\nSi te haces estas preguntas\, este taller es para ti. \n  \nPara registrarse haga clic en este enlace: https://attendee.gotowebinar.com/register/6100250367301975566 \nNota: Después de registrarse para el taller\, serás dirigido a que complete el formulario de admisión y suba los documentos requeridos.
URL:https://reach4housing.org/event/6-horas-miami-dade-y-condados-del-alrededor-2/
LOCATION:FL
END:VEVENT
END:VCALENDAR