BEGIN:VCALENDAR
VERSION:2.0
PRODID:-//A WordPress Site - ECPv6.15.20//NONSGML v1.0//EN
CALSCALE:GREGORIAN
METHOD:PUBLISH
X-WR-CALNAME:A WordPress Site
X-ORIGINAL-URL:https://reach4housing.org
X-WR-CALDESC:Events for A WordPress Site
REFRESH-INTERVAL;VALUE=DURATION:PT1H
X-Robots-Tag:noindex
X-PUBLISHED-TTL:PT1H
BEGIN:VTIMEZONE
TZID:America/New_York
BEGIN:DAYLIGHT
TZOFFSETFROM:-0500
TZOFFSETTO:-0400
TZNAME:EDT
DTSTART:20220313T070000
END:DAYLIGHT
BEGIN:STANDARD
TZOFFSETFROM:-0400
TZOFFSETTO:-0500
TZNAME:EST
DTSTART:20221106T060000
END:STANDARD
BEGIN:DAYLIGHT
TZOFFSETFROM:-0500
TZOFFSETTO:-0400
TZNAME:EDT
DTSTART:20230312T070000
END:DAYLIGHT
BEGIN:STANDARD
TZOFFSETFROM:-0400
TZOFFSETTO:-0500
TZNAME:EST
DTSTART:20231105T060000
END:STANDARD
BEGIN:DAYLIGHT
TZOFFSETFROM:-0500
TZOFFSETTO:-0400
TZNAME:EDT
DTSTART:20240310T070000
END:DAYLIGHT
BEGIN:STANDARD
TZOFFSETFROM:-0400
TZOFFSETTO:-0500
TZNAME:EST
DTSTART:20241103T060000
END:STANDARD
END:VTIMEZONE
BEGIN:VEVENT
DTSTART;TZID=America/New_York:20230318T083000
DTEND;TZID=America/New_York:20230318T160000
DTSTAMP:20260420T032539
CREATED:20221122T172329Z
LAST-MODIFIED:20221122T172329Z
UID:7129-1679128200-1679155200@reach4housing.org
SUMMARY:8-hour – Hillsborough County and surrounding counties
DESCRIPTION:Class is available in English ONLY  \nThis 8-hour workshop is ONLY for first-time homebuyers who live in a city or county that requires 8 hours to qualify for down payment and/or closing cost assistance. *  \n*Hillsborough\, Pinellas\, Pasco and surrounding counties  \nEffective 2/2/2023\, there is a fee for Homebuyer Education classes – $69 per person. Scholarships are available for City of Tampa eligible attendees. Call 855-48-REACH to see if eligible.  \nNote: For those individuals without a scholarship and a 2-hour one-on-one counseling session is required\, an additional fee of $65 will be charged.  \nDo you wonder…  \n\n If you could buy your own home?• How can you qualify for a mortgage?• What does your credit report mean? \n\nIf you ask yourself these questions\, this workshop is for you.  \nRegister now\, click this link: https://attendee.gotowebinar.com/register/987437735257709069 \n  \nNote: After registering for the workshop\, you will be directed to complete the Intake form and to upload required documents. 
URL:https://reach4housing.org/event/8-hour-hillsborough-county-and-surrounding-counties-3/
LOCATION:FL
END:VEVENT
END:VCALENDAR