BEGIN:VCALENDAR
VERSION:2.0
PRODID:-//A WordPress Site - ECPv6.15.20//NONSGML v1.0//EN
CALSCALE:GREGORIAN
METHOD:PUBLISH
X-WR-CALNAME:A WordPress Site
X-ORIGINAL-URL:https://reach4housing.org
X-WR-CALDESC:Events for A WordPress Site
REFRESH-INTERVAL;VALUE=DURATION:PT1H
X-Robots-Tag:noindex
X-PUBLISHED-TTL:PT1H
BEGIN:VTIMEZONE
TZID:America/New_York
BEGIN:DAYLIGHT
TZOFFSETFROM:-0500
TZOFFSETTO:-0400
TZNAME:EDT
DTSTART:20220313T070000
END:DAYLIGHT
BEGIN:STANDARD
TZOFFSETFROM:-0400
TZOFFSETTO:-0500
TZNAME:EST
DTSTART:20221106T060000
END:STANDARD
BEGIN:DAYLIGHT
TZOFFSETFROM:-0500
TZOFFSETTO:-0400
TZNAME:EDT
DTSTART:20230312T070000
END:DAYLIGHT
BEGIN:STANDARD
TZOFFSETFROM:-0400
TZOFFSETTO:-0500
TZNAME:EST
DTSTART:20231105T060000
END:STANDARD
BEGIN:DAYLIGHT
TZOFFSETFROM:-0500
TZOFFSETTO:-0400
TZNAME:EDT
DTSTART:20240310T070000
END:DAYLIGHT
BEGIN:STANDARD
TZOFFSETFROM:-0400
TZOFFSETTO:-0500
TZNAME:EST
DTSTART:20241103T060000
END:STANDARD
END:VTIMEZONE
BEGIN:VEVENT
DTSTART;TZID=America/New_York:20230427T180000
DTEND;TZID=America/New_York:20230427T190000
DTSTAMP:20260420T014303
CREATED:20230403T103539Z
LAST-MODIFIED:20230403T103539Z
UID:7492-1682618400-1682622000@reach4housing.org
SUMMARY:FREE Financial Empowerment Workshop
DESCRIPTION:FREE Financial Empowerment Workshop!\n\n\nLearn basic banking\, budgeting\, debt management\, credit building\, credit report management\, and much more at our FREE Financial Empowerment Workshop. The consequences of a negative credit rating is typically a reduction in the likelihood that a lender will approve an application for credit under favorable terms\, if at all. In certain cases\, insurance\, housing and employment can also be denied based on a negative credit rating. So because of the unwanted effects of having low credit scores\, it is important to learn proper money management techniques to improve future spending habits. Don’t miss out on our Financial Empowerment Workshop\, April\, 27 2023 from 6-7 pm\, its virtual. Find out about the resources available to help you manage your credit\, home loans\, how to keep your spending under control and how to set goals while building your credit.\n\n\n\nYou MUST Register to attend.\n\n\nRegister now at:\nApril 27 2023\,\nhttps://attendee.gotowebinar.com/regi…/7924046591115028821
URL:https://reach4housing.org/event/free-financial-empowerment-workshop-2/
LOCATION:FL
END:VEVENT
END:VCALENDAR