BEGIN:VCALENDAR
VERSION:2.0
PRODID:-//A WordPress Site - ECPv6.15.20//NONSGML v1.0//EN
CALSCALE:GREGORIAN
METHOD:PUBLISH
X-WR-CALNAME:A WordPress Site
X-ORIGINAL-URL:https://reach4housing.org
X-WR-CALDESC:Events for A WordPress Site
REFRESH-INTERVAL;VALUE=DURATION:PT1H
X-Robots-Tag:noindex
X-PUBLISHED-TTL:PT1H
BEGIN:VTIMEZONE
TZID:America/New_York
BEGIN:DAYLIGHT
TZOFFSETFROM:-0500
TZOFFSETTO:-0400
TZNAME:EDT
DTSTART:20220313T070000
END:DAYLIGHT
BEGIN:STANDARD
TZOFFSETFROM:-0400
TZOFFSETTO:-0500
TZNAME:EST
DTSTART:20221106T060000
END:STANDARD
BEGIN:DAYLIGHT
TZOFFSETFROM:-0500
TZOFFSETTO:-0400
TZNAME:EDT
DTSTART:20230312T070000
END:DAYLIGHT
BEGIN:STANDARD
TZOFFSETFROM:-0400
TZOFFSETTO:-0500
TZNAME:EST
DTSTART:20231105T060000
END:STANDARD
BEGIN:DAYLIGHT
TZOFFSETFROM:-0500
TZOFFSETTO:-0400
TZNAME:EDT
DTSTART:20240310T070000
END:DAYLIGHT
BEGIN:STANDARD
TZOFFSETFROM:-0400
TZOFFSETTO:-0500
TZNAME:EST
DTSTART:20241103T060000
END:STANDARD
END:VTIMEZONE
BEGIN:VEVENT
DTSTART;TZID=America/New_York:20231021T100000
DTEND;TZID=America/New_York:20231021T160000
DTSTAMP:20260419T121306
CREATED:20221128T152141Z
LAST-MODIFIED:20221128T152141Z
UID:7201-1697882400-1697904000@reach4housing.org
SUMMARY:6-hour -Virtual Homebuyer Education Workshop English
DESCRIPTION:Classes are available in English\, Spanish\, and Creole. \nThere is a fee for Homebuyer Education classes – $69 per person. \nScholarships are available for residents that reside within Miami-Dade County and City of Tampa Tax District. \nDo you wonder… \n\nIf you could buy your own home?\n• How can you qualify for a mortgage?\n• What does your credit report mean?\n\nIf you ask yourself these questions\, this workshop is for you. \nRegister now\, click this link: https://attendee.gotowebinar.com/register/3385116353672503311
URL:https://reach4housing.org/event/6-hour-miami-dade-and-surrounding-counties-15/
LOCATION:FL
END:VEVENT
BEGIN:VEVENT
DTSTART;TZID=America/New_York:20231021T100000
DTEND;TZID=America/New_York:20231021T160000
DTSTAMP:20260419T121306
CREATED:20221130T131950Z
LAST-MODIFIED:20221130T131950Z
UID:7278-1697882400-1697904000@reach4housing.org
SUMMARY:6 horas: Taller para primeros compradores de vivienda en español.
DESCRIPTION:Las clases están disponibles en Inglés\, Español y Criollo. \n  \nLas becas están disponibles para los participantes del condado de Miami-Dade y residentes de la ciudad de Tampa. \nHay un costo para las clases de 6 horas: $69 por persona. \nNota: Para aquellas personas que no tengan una beca y requiera una sesión de asesoramiento individual\, se cobrará una tarifa adicional de $65. \n  \nTe preguntas… \n\n¿Si pudieras comprar tu propia casa?\n¿Cómo puedes calificar para una hipoteca?\n¿Qué significa su reporte de crédito?\n\nSi te haces estas preguntas\, este taller es para ti. \n  \nPara registrarse haga clic en este enlace: https://attendee.gotowebinar.com/register/5801023775361445388 \nNota: Después de registrarse para el taller\, serás dirigido a que complete el formulario de admisión y suba los documentos requeridos.
URL:https://reach4housing.org/event/6-horas-miami-dade-y-condados-del-alrededor-15/
LOCATION:FL
END:VEVENT
END:VCALENDAR