BEGIN:VCALENDAR
VERSION:2.0
PRODID:-//A WordPress Site - ECPv6.15.20//NONSGML v1.0//EN
CALSCALE:GREGORIAN
METHOD:PUBLISH
X-ORIGINAL-URL:https://reach4housing.org
X-WR-CALDESC:Events for A WordPress Site
REFRESH-INTERVAL;VALUE=DURATION:PT1H
X-Robots-Tag:noindex
X-PUBLISHED-TTL:PT1H
BEGIN:VTIMEZONE
TZID:America/New_York
BEGIN:DAYLIGHT
TZOFFSETFROM:-0500
TZOFFSETTO:-0400
TZNAME:EDT
DTSTART:20220313T070000
END:DAYLIGHT
BEGIN:STANDARD
TZOFFSETFROM:-0400
TZOFFSETTO:-0500
TZNAME:EST
DTSTART:20221106T060000
END:STANDARD
BEGIN:DAYLIGHT
TZOFFSETFROM:-0500
TZOFFSETTO:-0400
TZNAME:EDT
DTSTART:20230312T070000
END:DAYLIGHT
BEGIN:STANDARD
TZOFFSETFROM:-0400
TZOFFSETTO:-0500
TZNAME:EST
DTSTART:20231105T060000
END:STANDARD
BEGIN:DAYLIGHT
TZOFFSETFROM:-0500
TZOFFSETTO:-0400
TZNAME:EDT
DTSTART:20240310T070000
END:DAYLIGHT
BEGIN:STANDARD
TZOFFSETFROM:-0400
TZOFFSETTO:-0500
TZNAME:EST
DTSTART:20241103T060000
END:STANDARD
END:VTIMEZONE
BEGIN:VEVENT
DTSTART;TZID=America/New_York:20231025T180000
DTEND;TZID=America/New_York:20231025T210000
DTSTAMP:20260419T121510
CREATED:20230920T113242Z
LAST-MODIFIED:20230920T113242Z
UID:7936-1698256800-1698267600@reach4housing.org
SUMMARY:3-Hr-FREE Virtual Homebuyer Education Workshop (English)
DESCRIPTION:This registration will AUTOMATICALLY register you for both days 10/25/2023 and 10/26/2023 \n3hr- hour Homebuyer workshop will cover down payment assistance and local funding programs plus mortgage information.  Workshop is available in Spanish and English and will give you educational credits toward an 8-hour certification class. The 3-hour workshop is for all Counties and Cities. \nYou need to attend both sessions in order to receive the credit for 6 hours. 10/25/2023 and 10/26/2023   from: 6pm-9pm\n\nPlease log on at least 15 minutes PRIOR to class start time. Households that have multiple people taking class MUST register separately and log on from a different device. \nDo you wonder… \n\nIf you could buy your own home?\n• How can you qualify for a mortgage?\n• What does your credit report mean?\n\nIf you ask yourself these questions\, this workshop is for you. \nRegister now\, click this link: https://attendee.gotowebinar.com/register/8292028947460506454\n  \nNote: After registering for the workshop\, you will be directed to complete the Intake form and to upload required documents. 
URL:https://reach4housing.org/event/7936/
LOCATION:FL
END:VEVENT
BEGIN:VEVENT
DTSTART;TZID=America/New_York:20231025T180000
DTEND;TZID=America/New_York:20231025T210000
DTSTAMP:20260419T121510
CREATED:20230920T114057Z
LAST-MODIFIED:20230920T114057Z
UID:7944-1698256800-1698267600@reach4housing.org
SUMMARY:3-horas: GRATIS-Taller para primeros compradores de vivienda Español
DESCRIPTION:Esta registracion\, lo registrará automáticamente para ambos días.\n\nDebera asistir a las dos sesiónes para recibir el crédito de 6 horas. 10/25/23 y 10/26/2023 De: 6pm-9pm \nEste taller es para todos los Condados y Ciudad.\nEntre 15 minutos ANTES de la hora de inicio de la clase. Cada aplicante debera registrarse por separado e iniciar sesión desde diferentes dispositivo.\n\nEL ENLACE PARA LA CLASE SE LE ENVIARA POR CORREO ELECTRONICO SI SE REGISTRO CORRECTAMENTE! \n\nEnlace para registrarse: https://attendee.gotowebinar.com/register/5752140594623560534
URL:https://reach4housing.org/event/3-horas-gratis-taller-para-primeros-compradores-de-vivienda-espanol/
LOCATION:FL
END:VEVENT
END:VCALENDAR