BEGIN:VCALENDAR
VERSION:2.0
PRODID:-//A WordPress Site - ECPv6.15.20//NONSGML v1.0//EN
CALSCALE:GREGORIAN
METHOD:PUBLISH
X-ORIGINAL-URL:https://reach4housing.org
X-WR-CALDESC:Events for A WordPress Site
REFRESH-INTERVAL;VALUE=DURATION:PT1H
X-Robots-Tag:noindex
X-PUBLISHED-TTL:PT1H
BEGIN:VTIMEZONE
TZID:America/New_York
BEGIN:DAYLIGHT
TZOFFSETFROM:-0500
TZOFFSETTO:-0400
TZNAME:EDT
DTSTART:20220313T070000
END:DAYLIGHT
BEGIN:STANDARD
TZOFFSETFROM:-0400
TZOFFSETTO:-0500
TZNAME:EST
DTSTART:20221106T060000
END:STANDARD
BEGIN:DAYLIGHT
TZOFFSETFROM:-0500
TZOFFSETTO:-0400
TZNAME:EDT
DTSTART:20230312T070000
END:DAYLIGHT
BEGIN:STANDARD
TZOFFSETFROM:-0400
TZOFFSETTO:-0500
TZNAME:EST
DTSTART:20231105T060000
END:STANDARD
BEGIN:DAYLIGHT
TZOFFSETFROM:-0500
TZOFFSETTO:-0400
TZNAME:EDT
DTSTART:20240310T070000
END:DAYLIGHT
BEGIN:STANDARD
TZOFFSETFROM:-0400
TZOFFSETTO:-0500
TZNAME:EST
DTSTART:20241103T060000
END:STANDARD
END:VTIMEZONE
BEGIN:VEVENT
DTSTART;TZID=America/New_York:20231116T150000
DTEND;TZID=America/New_York:20231116T190000
DTSTAMP:20260421T094448
CREATED:20231102T122218Z
LAST-MODIFIED:20231102T122218Z
UID:8024-1700146800-1700161200@reach4housing.org
SUMMARY:REACH Your Homeownership Goal and get on the bus for discussions with 5/3 Bank
DESCRIPTION:🚌 Hop on board the Fifth Third Financial Empowerment Mobile! 🚌 \nJoin us for this FREE event\, a partnership with 5/3 Bank\, to empower your financial future: \n🏡 Unlock the Secrets of Homeownership \n💳 Master Your Credit \n💰 Discover Down Payment Assistance Programs (Up to $90\,000!) \n📜 Navigate Mortgage Qualifications & Documents \nDon’t miss out! We’ve got breakout rooms in both Spanish and English\, and it even earns you credits for your 2-hour Homebuyer Education Workshop. \nThis event is in person.\nAddress: New Beginnings Christian Church at 4100 S Manhattan Ave Tampa\, Fl 33611.
URL:https://reach4housing.org/event/8024/
LOCATION:FL
END:VEVENT
END:VCALENDAR