BEGIN:VCALENDAR
VERSION:2.0
PRODID:-//A WordPress Site - ECPv6.15.20//NONSGML v1.0//EN
CALSCALE:GREGORIAN
METHOD:PUBLISH
X-WR-CALNAME:A WordPress Site
X-ORIGINAL-URL:https://reach4housing.org
X-WR-CALDESC:Events for A WordPress Site
REFRESH-INTERVAL;VALUE=DURATION:PT1H
X-Robots-Tag:noindex
X-PUBLISHED-TTL:PT1H
BEGIN:VTIMEZONE
TZID:UTC
BEGIN:STANDARD
TZOFFSETFROM:+0000
TZOFFSETTO:+0000
TZNAME:UTC
DTSTART:20240101T000000
END:STANDARD
END:VTIMEZONE
BEGIN:VEVENT
DTSTART;TZID=UTC:20250712T090000
DTEND;TZID=UTC:20250712T170000
DTSTAMP:20260420T161255
CREATED:20250625T203245Z
LAST-MODIFIED:20250625T203245Z
UID:19433-1752310800-1752339600@reach4housing.org
SUMMARY:8 horas:Taller para primeros compradores de casa  en español. Virtual
DESCRIPTION:El taller de 8 horas es para TODOS los condados.\nEste taller es virtual\, comienza a las 9:00 a.m. y finaliza a las 5:00 p.m. \nDebes registrarte y quedarte durante todo el taller para recibir tu certificado de finalización. \nDespués de registrarte\, es necesario completar el formulario de ingreso en:\nwww.reach4housing.org \nNO DEJES NINGÚN CAMPO EN BLANCO. Si algo no aplica\, escribe N/A. \nSi quiere comprar en MIAMI DADE (HCD)es mandatorio tener una consejeria en persona para recibir su certificado! \nA partir del 27 de febrero de 2025\, se requerirá un pago de $100 por persona para asistir a las clases de Educación para Compradores de Vivienda. \nPara residentes de Miami Dade sera gratis con comprobante de Identificacion o Licensia que reside en el condade de Miami Dade \n 
URL:https://reach4housing.org/event/8-horastaller-para-primeros-compradores-de-casa-en-espanol-virtual-3/
LOCATION:FL
END:VEVENT
BEGIN:VEVENT
DTSTART;TZID=UTC:20250712T090000
DTEND;TZID=UTC:20250712T170000
DTSTAMP:20260420T161255
CREATED:20250627T141132Z
LAST-MODIFIED:20250627T141132Z
UID:19437-1752310800-1752339600@reach4housing.org
SUMMARY:FREE 8hr In-person Homebuyer Education Workshop (English)
DESCRIPTION:This workshop is In-person!! \nYou MUST Register to attend  and remain the entire duration of the workshop to receive a Certificate of completion. \nGold Coast Schools (Doral Location) \n11250 NW 20th St \nMiami\, FL 33172 \nMust complete the intake after your register. \nwww.reach4housing.org
URL:https://reach4housing.org/event/free-8hr-in-person-homebuyer-education-workshop-english-15/
LOCATION:FL
END:VEVENT
END:VCALENDAR