BEGIN:VCALENDAR
VERSION:2.0
PRODID:-//A WordPress Site - ECPv6.15.20//NONSGML v1.0//EN
CALSCALE:GREGORIAN
METHOD:PUBLISH
X-ORIGINAL-URL:https://reach4housing.org
X-WR-CALDESC:Events for A WordPress Site
REFRESH-INTERVAL;VALUE=DURATION:PT1H
X-Robots-Tag:noindex
X-PUBLISHED-TTL:PT1H
BEGIN:VTIMEZONE
TZID:UTC
BEGIN:STANDARD
TZOFFSETFROM:+0000
TZOFFSETTO:+0000
TZNAME:UTC
DTSTART:20240101T000000
END:STANDARD
END:VTIMEZONE
BEGIN:VEVENT
DTSTART;TZID=UTC:20250913T090000
DTEND;TZID=UTC:20250913T170000
DTSTAMP:20260419T123315
CREATED:20250722T012153Z
LAST-MODIFIED:20250903T220159Z
UID:19529-1757754000-1757782800@reach4housing.org
SUMMARY:8 horas:Taller para primeros compradores de casa  en español. Virtual
DESCRIPTION:Haz clic aquí para registrarte en este taller👉  : https://events.teams.microsoft.com/event/a655840c-1a2c-4a18-83dc-eb25609d0f1b@b2ceab64-e7cf-4c8f-8c14-69b255c41d57 \nAcompáñanos en nuestro Taller Virtual para Primeros Compradores de Casa el sábado 13 de septiembre de 2025 de 9 AM a 5 PM. \n Taller 100% en españolAsistencia de hasta $147\,500 para el pago inicial Consejeros certificados por HUD¡Todo lo que necesitas para dar el primer paso hacia tu casa propia! \nRegístrate en www.reach4housing.org o escanea el código QRMás info: (855) 487-3224 \n¡No dejes pasar esta oportunidad de prepararte y recibir ayuda real para comprar tu hogar!
URL:https://reach4housing.org/event/8-horastaller-para-primeros-compradores-de-casa-en-espanol-virtual-5/
LOCATION:FL
END:VEVENT
BEGIN:VEVENT
DTSTART;TZID=UTC:20250913T090000
DTEND;TZID=UTC:20250913T170000
DTSTAMP:20260419T123315
CREATED:20250722T013421Z
LAST-MODIFIED:20250903T220305Z
UID:19532-1757754000-1757782800@reach4housing.org
SUMMARY:8hr Virtual Homebuyer Education Workshop (English)
DESCRIPTION:Click here to register for this workshop👉:https://events.teams.microsoft.com/event/fb0c81cc-5d0e-4f63-b83f-4e980cc902f6@b2ceab64-e7cf-4c8f-8c14-69b255c41d57 \n$147\,500 Reasons to Join Us! \nBuying your first home shouldn’t feel impossible — and we’re here to prove it. \nJoin R.E.A.C.H. for our 8-hour Homebuyer Workshop on September 13\, 2025\, and discover how you can qualify for up to $147\,500 in down payment assistance. \n What you’ll get:✔️ Real answers from HUD-approved experts✔️ A step-by-step roadmap to buying your first home✔️ Access to powerful financial tools and programs✔️ Motivation\, knowledge\, and a path forward \nSaturday\, Sept. 13\, 20259 AM – 5 PMVIRTUAL – Attend from anywhere! \n🔗 Register now at www.reach4housing.org or scan the QR code below.📞 Questions? Call us at (855) 487-3224 \nYour future home is closer than you think. Let’s make it happen—together.
URL:https://reach4housing.org/event/8hr-virtual-homebuyer-education-workshop-english-7/
LOCATION:FL
END:VEVENT
END:VCALENDAR