BEGIN:VCALENDAR
VERSION:2.0
PRODID:-//A WordPress Site - ECPv6.15.20//NONSGML v1.0//EN
CALSCALE:GREGORIAN
METHOD:PUBLISH
X-ORIGINAL-URL:https://reach4housing.org
X-WR-CALDESC:Events for A WordPress Site
REFRESH-INTERVAL;VALUE=DURATION:PT1H
X-Robots-Tag:noindex
X-PUBLISHED-TTL:PT1H
BEGIN:VTIMEZONE
TZID:UTC
BEGIN:STANDARD
TZOFFSETFROM:+0000
TZOFFSETTO:+0000
TZNAME:UTC
DTSTART:20240101T000000
END:STANDARD
END:VTIMEZONE
BEGIN:VEVENT
DTSTART;TZID=UTC:20250920T083000
DTEND;TZID=UTC:20250920T163000
DTSTAMP:20260419T123315
CREATED:20250812T164548Z
LAST-MODIFIED:20250903T220240Z
UID:19543-1758357000-1758385800@reach4housing.org
SUMMARY:Free 8hr In-Person Homebuyer Workshop – September 20\, 2025
DESCRIPTION:Click here to register for this workshop 👉 : https://events.teams.microsoft.com/event/aec9d4bd-3843-400f-931e-c96525eabd08@b2ceab64-e7cf-4c8f-8c14-69b255c41d57 \nJoin R.E.A.C.H. and the Tampa Housing Authority for a full-day\, FREE 8-hour HUD-approved Homebuyer Workshop designed to prepare you for the path to homeownership. \nEligible attendees may qualify for up to $100\,000 in down payment assistance to purchase their primary residence. \n📅 Date: Saturday\, September 20\, 2025🕗 Time: 8:30 AM – 4:30 PM📍 Location: Tampa Housing Authority5301 W. Cypress St.\, Tampa\, FL 33607 \nWhy Attend?✅ Learn every step of the homebuying process✅ Meet housing experts & industry professionals✅ Gain eligibility for local down payment assistance programs✅ Take the first step toward your dream of homeownership \n💻 Must Register to Attend – Open to the Public!👉 Register Now or scan the QR code above.
URL:https://reach4housing.org/event/free-8hr-in-person-homebuyer-workshop-september-20-2025/
LOCATION:FL
END:VEVENT
END:VCALENDAR