BEGIN:VCALENDAR
VERSION:2.0
PRODID:-//A WordPress Site - ECPv6.15.20//NONSGML v1.0//EN
CALSCALE:GREGORIAN
METHOD:PUBLISH
X-WR-CALNAME:A WordPress Site
X-ORIGINAL-URL:https://reach4housing.org
X-WR-CALDESC:Events for A WordPress Site
REFRESH-INTERVAL;VALUE=DURATION:PT1H
X-Robots-Tag:noindex
X-PUBLISHED-TTL:PT1H
BEGIN:VTIMEZONE
TZID:UTC
BEGIN:STANDARD
TZOFFSETFROM:+0000
TZOFFSETTO:+0000
TZNAME:UTC
DTSTART:20240101T000000
END:STANDARD
END:VTIMEZONE
BEGIN:VEVENT
DTSTART;TZID=UTC:20251018T090000
DTEND;TZID=UTC:20251018T150000
DTSTAMP:20260419T135548
CREATED:20251001T210748Z
LAST-MODIFIED:20251001T210915Z
UID:19614-1760778000-1760799600@reach4housing.org
SUMMARY:Free In-Person Homebuyer Education Workshop (English)  MIAMI DADE COUNTY
DESCRIPTION:Click here to register for this workshop👉: https://events.teams.microsoft.com/event/b1be8949-581a-4990-bf35-9f6a52bfe336@b2ceab64-e7cf-4c8f-8c14-69b255c41d57 \nTHIS WORKSHOP IS IN PERSON!!\n    NOT ONLINE!! \nYou MUST Register and remain the entire duration of the workshop. \nFor Miami Dade residents a mandatory counseling session is required to receive your certificate.\nPlease arrive 10 minutes early to allow for sign in & seating. \nMust complete the intake form after you register. \nwww.reach4housing.org\n*DO NOT LEAVE ANY FIELDS BLANK. Put N/A if does not apply. \nLocation: Granada Church: 950 University Drive  Coral Gables\, Florida 33134 (Greater Miami Area)
URL:https://reach4housing.org/event/free-in-person-homebuyer-education-workshop-english-miami-dade-county/
LOCATION:FL
END:VEVENT
END:VCALENDAR