BEGIN:VCALENDAR
VERSION:2.0
PRODID:-//A WordPress Site - ECPv6.15.20//NONSGML v1.0//EN
CALSCALE:GREGORIAN
METHOD:PUBLISH
X-WR-CALNAME:A WordPress Site
X-ORIGINAL-URL:https://reach4housing.org
X-WR-CALDESC:Events for A WordPress Site
REFRESH-INTERVAL;VALUE=DURATION:PT1H
X-Robots-Tag:noindex
X-PUBLISHED-TTL:PT1H
BEGIN:VTIMEZONE
TZID:UTC
BEGIN:STANDARD
TZOFFSETFROM:+0000
TZOFFSETTO:+0000
TZNAME:UTC
DTSTART:20240101T000000
END:STANDARD
END:VTIMEZONE
BEGIN:VEVENT
DTSTART;TZID=UTC:20251115T100000
DTEND;TZID=UTC:20251115T133000
DTSTAMP:20260419T150841
CREATED:20251007T215238Z
LAST-MODIFIED:20251113T132023Z
UID:19633-1763200800-1763213400@reach4housing.org
SUMMARY:FREE-In-person Homebuyer Education Workshop  (English) in Gainesville
DESCRIPTION:Click here to register for this workshop👉: https://events.teams.microsoft.com/event/50f68074-8ae4-4c79-a06f-96b06b518659@b2ceab64-e7cf-4c8f-8c14-69b255c41d57 \nTHIS WORKSHOP IS IN PERSON!!\n    NOT ONLINE!! \nCommunity Roots: Housing & Wealth-Building \nYou MUST Register and remain the entire duration of the workshop \nMust complete the intake form after you register.https://pdf.ac/pYZP-jhXm \nwww.reach4housing.org\n*DO NOT LEAVE ANY FIELDS BLANK. Put N/A if does not apply. \nLocation: Alachua County Library\nAddress: 401 E University Ave\, Gainesville\, FL 32601 \n 
URL:https://reach4housing.org/event/homebuyer-education-workshop-english-gainesville/
LOCATION:FL
END:VEVENT
BEGIN:VEVENT
DTSTART;TZID=UTC:20251115T100000
DTEND;TZID=UTC:20251115T160000
DTSTAMP:20260419T150841
CREATED:20251106T215232Z
LAST-MODIFIED:20251106T215704Z
UID:19653-1763200800-1763222400@reach4housing.org
SUMMARY:FREE Virtual Homebuyer Education Workshop for Miami Dade County Residents ONLY!
DESCRIPTION:Important this Workshop is for – Miami-Dade County Residents Only\nClick here to register for this workshop👉  :https://events.teams.microsoft.com/event/f4b555c3-d1f7-47c0-8fcd-b951c2acb92b@b2ceab64-e7cf-4c8f-8c14-69b255c41d57  \nThis workshop is virtual and only for Miami-Dade County residents. \nTo participate\, you must provide proof of residency by sending a copy of your photo ID or driver’s license to :  housing@reach4housing.org\n.\n👉 Please include your first and last name in the email subject line when submitting your ID. \nMust complete the intake:https://pdf.ac/pYZP-jhXm \nOnce your residency is confirmed\, you will receive an email with the link to attend the workshop.\nPlease note: The link will come from the Microsoft Teams platform — be sure to check your spam or junk folder if you don’t see it in your inbox. \nWe look forward to seeing you at the workshop and helping you take the next step toward homeownership!
URL:https://reach4housing.org/event/free-virtual-homebuyer-education-workshop-for-miami-dade-county-residents-only/
LOCATION:FL
END:VEVENT
END:VCALENDAR