BEGIN:VCALENDAR
VERSION:2.0
PRODID:-//A WordPress Site - ECPv6.15.20//NONSGML v1.0//EN
CALSCALE:GREGORIAN
METHOD:PUBLISH
X-WR-CALNAME:A WordPress Site
X-ORIGINAL-URL:https://reach4housing.org
X-WR-CALDESC:Events for A WordPress Site
REFRESH-INTERVAL;VALUE=DURATION:PT1H
X-Robots-Tag:noindex
X-PUBLISHED-TTL:PT1H
BEGIN:VTIMEZONE
TZID:UTC
BEGIN:STANDARD
TZOFFSETFROM:+0000
TZOFFSETTO:+0000
TZNAME:UTC
DTSTART:20240101T000000
END:STANDARD
END:VTIMEZONE
BEGIN:VEVENT
DTSTART;TZID=UTC:20251121T150000
DTEND;TZID=UTC:20251121T183000
DTSTAMP:20260419T150812
CREATED:20251002T230656Z
LAST-MODIFIED:20251002T230656Z
UID:19623-1763737200-1763749800@reach4housing.org
SUMMARY:Pathway to financial wellness  [In-person] E-Bus 5/3 Bank
DESCRIPTION:Click here to register for this workshop👉: https://events.teams.microsoft.com/event/07a8e207-6f91-4fec-8162-03b34f8a4892@b2ceab64-e7cf-4c8f-8c14-69b255c41d57 \nSometimes opportunity knocks. Other times\, it rolls! 💙 \nMust register! \nJoin us on Friday\, November 21st\, 3:00–6:30 PM at Harvest Hope Park (3704 N. 20th St\, Tampa) for the Pathway to Financial Wellness event with the Fifth Third Financial Empowerment eBus! \n One-on-one help with savings & budgetingFree credit reports & consultationsProtecting your identityPreparing for homeownershipPlus: Enjoy pizza\, giveaways\, raffles AND earn 4 hours credit toward your HUD-approved homebuyer certificate! \nRegister today: reach4housing.org or call 855-487-3224 \n#FinancialWellness #TampaCommunity #PathwayToHomeownership #Reach4Housing #FifthThirdEBus
URL:https://reach4housing.org/event/pathway-to-financial-wellness-in-person-e-bus-5-3-bank/
LOCATION:FL
END:VEVENT
END:VCALENDAR