BEGIN:VCALENDAR
VERSION:2.0
PRODID:-//A WordPress Site - ECPv6.15.20//NONSGML v1.0//EN
CALSCALE:GREGORIAN
METHOD:PUBLISH
X-ORIGINAL-URL:https://reach4housing.org
X-WR-CALDESC:Events for A WordPress Site
REFRESH-INTERVAL;VALUE=DURATION:PT1H
X-Robots-Tag:noindex
X-PUBLISHED-TTL:PT1H
BEGIN:VTIMEZONE
TZID:America/New_York
BEGIN:DAYLIGHT
TZOFFSETFROM:-0500
TZOFFSETTO:-0400
TZNAME:EDT
DTSTART:20210314T070000
END:DAYLIGHT
BEGIN:STANDARD
TZOFFSETFROM:-0400
TZOFFSETTO:-0500
TZNAME:EST
DTSTART:20211107T060000
END:STANDARD
BEGIN:DAYLIGHT
TZOFFSETFROM:-0500
TZOFFSETTO:-0400
TZNAME:EDT
DTSTART:20220313T070000
END:DAYLIGHT
BEGIN:STANDARD
TZOFFSETFROM:-0400
TZOFFSETTO:-0500
TZNAME:EST
DTSTART:20221106T060000
END:STANDARD
BEGIN:DAYLIGHT
TZOFFSETFROM:-0500
TZOFFSETTO:-0400
TZNAME:EDT
DTSTART:20230312T070000
END:DAYLIGHT
BEGIN:STANDARD
TZOFFSETFROM:-0400
TZOFFSETTO:-0500
TZNAME:EST
DTSTART:20231105T060000
END:STANDARD
END:VTIMEZONE
BEGIN:VEVENT
DTSTART;TZID=America/New_York:20220405T180000
DTEND;TZID=America/New_York:20220405T190000
DTSTAMP:20260422T170031
CREATED:20220330T104228Z
LAST-MODIFIED:20220330T104228Z
UID:6136-1649181600-1649185200@reach4housing.org
SUMMARY:Financial Empowerment: A Financial Literacy Webinar Series
DESCRIPTION:We’ve got the tips and tricks you need to become financially empowered!\nSign up now for our four-part webinar series on Tuesday\, April 5\, 12\, 19\, and May 3\, 2022\, at 6 pm. We are hosting this FREE webinar series in partnership with Fifth Third Bank. This is our kickoff to National Financial Literacy Month!\nEnglish and Spanish classes are available.\n			\n				\n				\n				\n				\n				\n			\n				Register Now
URL:https://reach4housing.org/event/financial-empowerment-webinar/
CATEGORIES:Financial Literacy
END:VEVENT
BEGIN:VEVENT
DTSTART;TZID=America/New_York:20220407T180000
DTEND;TZID=America/New_York:20220407T190000
DTSTAMP:20260422T170031
CREATED:20220330T104856Z
LAST-MODIFIED:20220330T104856Z
UID:6160-1649354400-1649358000@reach4housing.org
SUMMARY:Empoderamiento Financiero: Esta ofreciendo una serie virtual de 4 seminarios sobre educación financiera
DESCRIPTION:¡Tenemos trucos y consejos que necesita para empoderarse financieramente!\nRegístrese ahora para nuestra serie de seminarios GRATIS y virtual de cuatro partes los  Jueves\, Abril 7\, Abril 21\, Mayo 12\, y Mayo 26\, 2022 a las 6 pm. Ospiciado por REACH y Fifth Third Bank.\n¡Este es nuestro inicio del Mes Nacional de la Educación Financiera!\nClases de inglés y español están disponibles.\n			\n				\n				\n				\n				\n				\n			\n				Registrarse Aquí
URL:https://reach4housing.org/event/empoderamiento-financiero-esta-ofreciendo-una-serie-virtual-de-4-seminarios-sobre-educacion-financiera/
CATEGORIES:Financial Literacy
END:VEVENT
END:VCALENDAR