BEGIN:VCALENDAR
VERSION:2.0
PRODID:-//A WordPress Site - ECPv6.15.20//NONSGML v1.0//EN
CALSCALE:GREGORIAN
METHOD:PUBLISH
X-WR-CALNAME:A WordPress Site
X-ORIGINAL-URL:https://reach4housing.org
X-WR-CALDESC:Events for A WordPress Site
REFRESH-INTERVAL;VALUE=DURATION:PT1H
X-Robots-Tag:noindex
X-PUBLISHED-TTL:PT1H
BEGIN:VTIMEZONE
TZID:America/New_York
BEGIN:DAYLIGHT
TZOFFSETFROM:-0500
TZOFFSETTO:-0400
TZNAME:EDT
DTSTART:20230312T070000
END:DAYLIGHT
BEGIN:STANDARD
TZOFFSETFROM:-0400
TZOFFSETTO:-0500
TZNAME:EST
DTSTART:20231105T060000
END:STANDARD
BEGIN:DAYLIGHT
TZOFFSETFROM:-0500
TZOFFSETTO:-0400
TZNAME:EDT
DTSTART:20240310T070000
END:DAYLIGHT
BEGIN:STANDARD
TZOFFSETFROM:-0400
TZOFFSETTO:-0500
TZNAME:EST
DTSTART:20241103T060000
END:STANDARD
BEGIN:DAYLIGHT
TZOFFSETFROM:-0500
TZOFFSETTO:-0400
TZNAME:EDT
DTSTART:20250309T070000
END:DAYLIGHT
BEGIN:STANDARD
TZOFFSETFROM:-0400
TZOFFSETTO:-0500
TZNAME:EST
DTSTART:20251102T060000
END:STANDARD
END:VTIMEZONE
BEGIN:VEVENT
DTSTART;TZID=America/New_York:20240821T080000
DTEND;TZID=America/New_York:20240823T170000
DTSTAMP:20260420T163746
CREATED:20240716T122556Z
LAST-MODIFIED:20240716T122556Z
UID:15851-1724227200-1724432400@reach4housing.org
SUMMARY:BLACK & LATINO ECONOMIC$ SUMMIT
DESCRIPTION:For over 15 years\, the National Minority Community Reinvestment Co-Operative (NMCRC) and Black & Latino community development leaders have joined forces with major corporate sponsors to host an Annual National Black & Latino Economic Summit. \nTo Register: Learn More ​They have a mission to address the racial wealth gap by developing solutions to build Black and Latino community development intellectual bandwidth through affordable housing & small business ownership. At their annual summits\, attendees can network with over 400 non-profits\, faith-based organizations\, affordable housing developers\, and small businesses\, as well as top bank and corporate executives over various interactive sessions and events.
URL:https://reach4housing.org/event/black-latino-economic-summit/
CATEGORIES:Financial Literacy
END:VEVENT
END:VCALENDAR