BEGIN:VCALENDAR
VERSION:2.0
PRODID:-//A WordPress Site - ECPv6.15.20//NONSGML v1.0//EN
CALSCALE:GREGORIAN
METHOD:PUBLISH
X-WR-CALNAME:A WordPress Site
X-ORIGINAL-URL:https://reach4housing.org
X-WR-CALDESC:Events for A WordPress Site
REFRESH-INTERVAL;VALUE=DURATION:PT1H
X-Robots-Tag:noindex
X-PUBLISHED-TTL:PT1H
BEGIN:VTIMEZONE
TZID:America/New_York
BEGIN:DAYLIGHT
TZOFFSETFROM:-0500
TZOFFSETTO:-0400
TZNAME:EDT
DTSTART:20230312T070000
END:DAYLIGHT
BEGIN:STANDARD
TZOFFSETFROM:-0400
TZOFFSETTO:-0500
TZNAME:EST
DTSTART:20231105T060000
END:STANDARD
BEGIN:DAYLIGHT
TZOFFSETFROM:-0500
TZOFFSETTO:-0400
TZNAME:EDT
DTSTART:20240310T070000
END:DAYLIGHT
BEGIN:STANDARD
TZOFFSETFROM:-0400
TZOFFSETTO:-0500
TZNAME:EST
DTSTART:20241103T060000
END:STANDARD
BEGIN:DAYLIGHT
TZOFFSETFROM:-0500
TZOFFSETTO:-0400
TZNAME:EDT
DTSTART:20250309T070000
END:DAYLIGHT
BEGIN:STANDARD
TZOFFSETFROM:-0400
TZOFFSETTO:-0500
TZNAME:EST
DTSTART:20251102T060000
END:STANDARD
END:VTIMEZONE
BEGIN:VEVENT
DTSTART;TZID=America/New_York:20240826T000000
DTEND;TZID=America/New_York:20240828T000000
DTSTAMP:20260422T204704
CREATED:20240716T151111Z
LAST-MODIFIED:20240716T151111Z
UID:7117-1724630400-1724803200@reach4housing.org
SUMMARY:Florida Housing Coalition Statewide Affordable Housing Conference 2024
DESCRIPTION:The Florida Housing Coalition is ready to get everyone together again! We look forward to seeing you as we host the 37th Annual Statewide Housing Conference at the Rosen Centre Hotel in Orlando. As the premier housing event in Florida\, the Florida Housing Coalition Conference attracts more than 1\,250 affordable housing professionals\, advocates\, lenders\, developers\, administrators\, and policymakers. We look forward to seeing newcomers and affordable housing veterans engage in thought-provoking exchanges of new ideas and sharing best practices through housing workshops\, forums\, caucuses\, and special events. \nTo Register:Learn More
URL:https://reach4housing.org/event/florida-housing-coalition-statewide-affordable-housing-conference-2024/
CATEGORIES:Homebuyer
END:VEVENT
END:VCALENDAR