BEGIN:VCALENDAR
VERSION:2.0
PRODID:-//A WordPress Site - ECPv6.15.20//NONSGML v1.0//EN
CALSCALE:GREGORIAN
METHOD:PUBLISH
X-WR-CALNAME:A WordPress Site
X-ORIGINAL-URL:https://reach4housing.org
X-WR-CALDESC:Events for A WordPress Site
REFRESH-INTERVAL;VALUE=DURATION:PT1H
X-Robots-Tag:noindex
X-PUBLISHED-TTL:PT1H
BEGIN:VTIMEZONE
TZID:UTC
BEGIN:STANDARD
TZOFFSETFROM:+0000
TZOFFSETTO:+0000
TZNAME:UTC
DTSTART:20180101T000000
END:STANDARD
END:VTIMEZONE
BEGIN:VEVENT
DTSTART;TZID=UTC:20200112T130000
DTEND;TZID=UTC:20200112T170000
DTSTAMP:20260420T003801
CREATED:20191024T185116Z
LAST-MODIFIED:20191024T185116Z
UID:1688-1578834000-1578848400@reach4housing.org
SUMMARY:FIRST TIME HOMEBUYER WORKSHOP- TAMPA-Part 2
DESCRIPTION:  \n \nDuring this workshop\, you will: \n¨ Learn How to Avoid Costly Mortgage Mistakes \n¨ Find Out How To Qualify For Down Payment Assistance Programs \n¨ Learn the Homebuying Process from Start to Finish \n¨ Hear Tips on How to Prepare Your Budget and Credit for a Mortgage \n¨ Learn About Home Inspections\, Homeowners Insurance\, and Title \n¨ Earn Required Certificate for Pre-Purchase Education \n  \nTo register for this event\, please call 813-397-6208 or Email us at housing@reach4housing.org \nPARA ESPANOL LLAME: 561-491-1760 \n  \n  \n 
URL:https://reach4housing.org/event/first-time-homebuyer-workshop-tampa-5/
END:VEVENT
BEGIN:VEVENT
DTSTART;TZID=UTC:20200111T130000
DTEND;TZID=UTC:20200111T170000
DTSTAMP:20260420T003801
CREATED:20191024T184947Z
LAST-MODIFIED:20191024T184947Z
UID:1685-1578747600-1578762000@reach4housing.org
SUMMARY:FIRST TIME HOMEBUYER WORKSHOP- TAMPA-Part 1
DESCRIPTION:  \n \nDuring this workshop\, you will: \n¨ Learn How to Avoid Costly Mortgage Mistakes \n¨ Find Out How To Qualify For Down Payment Assistance Programs \n¨ Learn the Homebuying Process from Start to Finish \n¨ Hear Tips on How to Prepare Your Budget and Credit for a Mortgage \n¨ Learn About Home Inspections\, Homeowners Insurance\, and Title \n¨ Earn Required Certificate for Pre-Purchase Education \n  \nTo register for this event\, please call 813-397-6208 or Email us at housing@reach4housing.org \nPARA ESPANOL LLAME: 561-491-1760 \n  \n  \n 
URL:https://reach4housing.org/event/first-time-homebuyer-workshop-tampa-4/
END:VEVENT
BEGIN:VEVENT
DTSTART;TZID=UTC:20191215T130000
DTEND;TZID=UTC:20191215T190000
DTSTAMP:20260420T003801
CREATED:20190911T193901Z
LAST-MODIFIED:20190911T193901Z
UID:1636-1576414800-1576436400@reach4housing.org
SUMMARY:FIRST TIME HOMEBUYER WORKSHOP-KENDALL/MIAMI
DESCRIPTION:Learn about First Time Homebuyer mortgage programs.\nFind out how you can qualify for down payment assistance programs.\nUnderstand the home buying process\nLearn about home inspections\nFind out about different types of Homeowner’s Insurance\nUnderstand the important points of a Real Estate Sales Contract\nLearn the benefits to homeownership\n\nBeverages\, and training material \n(Seating  is limited. Please RSVP) \nTo register\, please call 786-260-6820 or email us at housing@reach4housing.org \n 
URL:https://reach4housing.org/event/first-time-homebuyer-workshop-kendall-miami-4/
END:VEVENT
BEGIN:VEVENT
DTSTART;TZID=UTC:20191215T130000
DTEND;TZID=UTC:20191215T170000
DTSTAMP:20260420T003801
CREATED:20190911T192659Z
LAST-MODIFIED:20190911T192659Z
UID:1628-1576414800-1576429200@reach4housing.org
SUMMARY:FIRST TIME HOMEBUYER WORKSHOP-TAMPA Part 2
DESCRIPTION:  \n \nNote: This workshop is a continuation of Saturdays workshop.\nDuring this workshop\, you will: \n¨ Learn How to Avoid Costly Mortgage Mistakes \n¨ Find Out How To Qualify For Down Payment Assistance Programs \n¨ Learn the Homebuying Process from Start to Finish \n¨ Hear Tips on How to Prepare Your Budget and Credit for a Mortgage \n¨ Learn About Home Inspections\, Homeowners Insurance\, and Title \n¨ Earn Required Certificate for Pre-Purchase Education \n  \nTo register for this event\, please call 813-397-6208 or Email us at housing@reach4housing.org \nPARA ESPANOL LLAME: 561-491-1760 \n  \n  \n 
URL:https://reach4housing.org/event/first-time-homebuyer-workshop-tampa-9/
END:VEVENT
BEGIN:VEVENT
DTSTART;TZID=UTC:20191214T130000
DTEND;TZID=UTC:20191214T170000
DTSTAMP:20260420T003801
CREATED:20190911T192548Z
LAST-MODIFIED:20190911T192548Z
UID:1626-1576328400-1576342800@reach4housing.org
SUMMARY:FIRST TIME HOMEBUYER WORKSHOP-TAMPA Part 1
DESCRIPTION:NOTE: The workshop continues on Sunday\, Dec. 15 from 1:00 PM to 5:00 PM\nDuring this workshop\, you will: \n¨ Learn How to Avoid Costly Mortgage Mistakes \n¨ Find Out How To Qualify For Down Payment Assistance Programs \n¨ Learn the Homebuying Process from Start to Finish \n¨ Hear Tips on How to Prepare Your Budget and Credit for a Mortgage \n¨ Learn About Home Inspections\, Homeowners Insurance\, and Title \n¨ Earn Required Certificate for Pre-Purchase Education \n  \nTo register for this event\, please call 813-397-6208 or Email us at housing@reach4housing.org \nPARA ESPANOL LLAME: 561-491-1760
URL:https://reach4housing.org/event/first-time-homebuyer-workshop-tampa-8/
END:VEVENT
BEGIN:VEVENT
DTSTART;TZID=UTC:20191214T100000
DTEND;TZID=UTC:20191214T120000
DTSTAMP:20260420T003801
CREATED:20191211T214555Z
LAST-MODIFIED:20191211T214555Z
UID:1726-1576317600-1576324800@reach4housing.org
SUMMARY:Homeowner Downpayment Assistance Help
DESCRIPTION:FREE EVENT\nHomeownership Downpayment Assistance up to $30\,000.\n \nCredit\, Grants and Down Payment Assistance Programs\nInformation Includes: \n\n2019 Down payment assistance\nWays to help you build your credit\nGrant money and homebuyer tips\nFirst time Homebuyer programs\nFinancial & lending literacy\n\n  \n 
URL:https://reach4housing.org/event/homeowner-downpayment-assistance-help/
END:VEVENT
BEGIN:VEVENT
DTSTART;TZID=UTC:20191207T100000
DTEND;TZID=UTC:20191207T160000
DTSTAMP:20260420T003801
CREATED:20190911T193614Z
LAST-MODIFIED:20190911T193614Z
UID:1634-1575712800-1575734400@reach4housing.org
SUMMARY:FIRST TIME HOMEBUYER WORKSHOP- KENDALL/ MIAMI
DESCRIPTION:Learn about First Time Homebuyer mortgage programs.\nFind out how you can qualify for down payment assistance programs.\nUnderstand the home buying process\nLearn about home inspections\nFind out about different types of Homeowner’s Insurance\nUnderstand the important points of a Real Estate Sales Contract\nLearn the benefits to homeownership\n\n  \nBeverages\, and training material \n(Seating  is limited. Please RSVP) \nTo register\, please call 786-260-6820 or email us at housing@reach4housing.org \n 
URL:https://reach4housing.org/event/first-time-homebuyer-workshop-kendall-miami-3/
END:VEVENT
BEGIN:VEVENT
DTSTART;TZID=UTC:20190209T100000
DTEND;TZID=UTC:20190209T160000
DTSTAMP:20260420T003801
CREATED:20181210T151825Z
LAST-MODIFIED:20181210T151825Z
UID:1391-1549706400-1549728000@reach4housing.org
SUMMARY:First Time Homebuyer Workshop- Fort Lauderdale
DESCRIPTION:First Time Homebuyer Workshop\nSaturday\, February 9\, 2019\n10:00am – 4:00pm\nWhere: 1451 W Cypress Creek Road\, Fort Lauderdale\, FL 33309 \nCost: $49 \nWhen preparing to buy your first home\, it’s important to plan ahead so you can manage your finances and be a successful homeowner. \nOur Homebuyer Education course will help you make sound decisions when buying a home.  It will not only help you save\, but will increase your knowledge of the home buying process. \nDo you wonder… \n\nIf you could buy your own home?\nHow you could qualify for a mortgage?\nWhat your credit report means?\n\nIf you answered yes to atleast one of these questions\, this workshop is for you. \nDuring this workshop\, you will… \n\nFind out how you can qualify for up to $10\,000 in down payment assistance.\nUnderstand the home buying process from start to finish.\nDetermine how much you can afford.\nLearn about tax benefits of homeownership.\n\n  \nTo register for this class\, send email to housing@reach4housing.org   or call 954-546-0844 \n  \n** Children under the age of 18 WILL NOT BE ADMITTED to workshops conducted by REACH. We are sorry for any inconvenience this may cause. 
URL:https://reach4housing.org/event/first-time-homebuyer-workshop-fort-lauderdale-2/
END:VEVENT
END:VCALENDAR