BEGIN:VCALENDAR
VERSION:2.0
PRODID:-//A WordPress Site - ECPv6.15.20//NONSGML v1.0//EN
CALSCALE:GREGORIAN
METHOD:PUBLISH
X-WR-CALNAME:A WordPress Site
X-ORIGINAL-URL:https://reach4housing.org
X-WR-CALDESC:Events for A WordPress Site
REFRESH-INTERVAL;VALUE=DURATION:PT1H
X-Robots-Tag:noindex
X-PUBLISHED-TTL:PT1H
BEGIN:VTIMEZONE
TZID:UTC
BEGIN:STANDARD
TZOFFSETFROM:+0000
TZOFFSETTO:+0000
TZNAME:UTC
DTSTART:20190101T000000
END:STANDARD
END:VTIMEZONE
BEGIN:VEVENT
DTSTART;TZID=UTC:20200111T130000
DTEND;TZID=UTC:20200111T170000
DTSTAMP:20260422T153900
CREATED:20191024T184947Z
LAST-MODIFIED:20191024T184947Z
UID:1685-1578747600-1578762000@reach4housing.org
SUMMARY:FIRST TIME HOMEBUYER WORKSHOP- TAMPA-Part 1
DESCRIPTION:  \n \nDuring this workshop\, you will: \n¨ Learn How to Avoid Costly Mortgage Mistakes \n¨ Find Out How To Qualify For Down Payment Assistance Programs \n¨ Learn the Homebuying Process from Start to Finish \n¨ Hear Tips on How to Prepare Your Budget and Credit for a Mortgage \n¨ Learn About Home Inspections\, Homeowners Insurance\, and Title \n¨ Earn Required Certificate for Pre-Purchase Education \n  \nTo register for this event\, please call 813-397-6208 or Email us at housing@reach4housing.org \nPARA ESPANOL LLAME: 561-491-1760 \n  \n  \n 
URL:https://reach4housing.org/event/first-time-homebuyer-workshop-tampa-4/
LOCATION:FL
END:VEVENT
BEGIN:VEVENT
DTSTART;TZID=UTC:20200112T130000
DTEND;TZID=UTC:20200112T170000
DTSTAMP:20260422T153900
CREATED:20191024T185116Z
LAST-MODIFIED:20191024T185116Z
UID:1688-1578834000-1578848400@reach4housing.org
SUMMARY:FIRST TIME HOMEBUYER WORKSHOP- TAMPA-Part 2
DESCRIPTION:  \n \nDuring this workshop\, you will: \n¨ Learn How to Avoid Costly Mortgage Mistakes \n¨ Find Out How To Qualify For Down Payment Assistance Programs \n¨ Learn the Homebuying Process from Start to Finish \n¨ Hear Tips on How to Prepare Your Budget and Credit for a Mortgage \n¨ Learn About Home Inspections\, Homeowners Insurance\, and Title \n¨ Earn Required Certificate for Pre-Purchase Education \n  \nTo register for this event\, please call 813-397-6208 or Email us at housing@reach4housing.org \nPARA ESPANOL LLAME: 561-491-1760 \n  \n  \n 
URL:https://reach4housing.org/event/first-time-homebuyer-workshop-tampa-5/
LOCATION:FL
END:VEVENT
BEGIN:VEVENT
DTSTART;TZID=UTC:20200119T110000
DTEND;TZID=UTC:20200119T190000
DTSTAMP:20260422T153900
CREATED:20190916T172206Z
LAST-MODIFIED:20190916T172206Z
UID:1656-1579431600-1579460400@reach4housing.org
SUMMARY:FIRST TIME HOMEBUYER WORKSHOP- MIAMI/KENDALL
DESCRIPTION:First Time Homebuyer Workshop\nSunday\,  January 19\,2020\n11:00am – 7:00pm\nWhere: 9010 SW 137th Avenue\, Suite 116\, Miami FL 33186 \nCost: FREE \nWhen preparing to buy your first home\, it’s important to plan ahead so you can manage your finances and be a successful homeowner. \nOur Homebuyer Education course will help you make sound decisions when buying a home.  It will not only help you save\, but will increase your knowledge of the home buying process. \nDo you wonder… \n\nIf you could buy your own home?\nHow you could qualify for a mortgage?\nWhat your credit report means?\n\nIf you answered yes to at least one of these questions\, this workshop is for you. \nDuring this workshop\, you will… \n\nFind out how you can qualify for up to $80\,000 in down payment assistance.\nUnderstand the home buying process from start to finish.\nDetermine how much you can afford.\nLearn about tax benefits of homeownership.\n\n  \nTo register for this class\, send email to housing@reach4housing.org   or call 786-260-6820 \n  \n** Children under the age of 18 WILL NOT BE ADMITTED to workshops conducted by REACH. We are sorry for any inconvenience this may cause. 
URL:https://reach4housing.org/event/first-time-homebuyer-workshop-miami-kendall-10/
LOCATION:FL
END:VEVENT
BEGIN:VEVENT
DTSTART;TZID=UTC:20200126T130000
DTEND;TZID=UTC:20200126T190000
DTSTAMP:20260422T153900
CREATED:20191223T180902Z
LAST-MODIFIED:20191223T180902Z
UID:1834-1580043600-1580065200@reach4housing.org
SUMMARY:FIRST TIME HOMEBUYER WORKSHOP- PALM BEACH GARDENS
DESCRIPTION:First Time Homebuyer Workshop\nSunday January 26\, 2020\n1:00pm – 7:00pm\nWhere: 8409 N Military Trail\, Suite 111\, Palm Beach Gardens\, FL 33410 \nCost: $49 \nWhen preparing to buy your first home\, it’s important to plan ahead so you can manage your finances and be a successful homeowner. \nOur Homebuyer Education course will help you make sound decisions when buying a home.  It will not only help you save\, but will increase your knowledge of the home buying process. \nDo you wonder… \n\nIf you could buy your own home?\nHow you could qualify for a mortgage?\nWhat your credit report means?\n\nIf you answered yes to atleast one of these questions\, this workshop is for you. \nDuring this workshop\, you will… \n\nFind out how you can qualify for up to $10\,000 in down payment assistance.\nUnderstand the home buying process from start to finish.\nDetermine how much you can afford.\nLearn about tax benefits of homeownership.\n\n  \nTo register for this class\, send email to housing@reach4housing.org   or call 561-491-1670
URL:https://reach4housing.org/event/first-time-homebuyer-workshop-palm-beach-gardens-10/
LOCATION:FL
END:VEVENT
END:VCALENDAR