BEGIN:VCALENDAR
VERSION:2.0
PRODID:-//A WordPress Site - ECPv6.15.20//NONSGML v1.0//EN
CALSCALE:GREGORIAN
METHOD:PUBLISH
X-WR-CALNAME:A WordPress Site
X-ORIGINAL-URL:https://reach4housing.org
X-WR-CALDESC:Events for A WordPress Site
REFRESH-INTERVAL;VALUE=DURATION:PT1H
X-Robots-Tag:noindex
X-PUBLISHED-TTL:PT1H
BEGIN:VTIMEZONE
TZID:UTC
BEGIN:STANDARD
TZOFFSETFROM:+0000
TZOFFSETTO:+0000
TZNAME:UTC
DTSTART:20190101T000000
END:STANDARD
END:VTIMEZONE
BEGIN:VEVENT
DTSTART;TZID=UTC:20200801T090000
DTEND;TZID=UTC:20200801T170000
DTSTAMP:20260422T031047
CREATED:20191212T201041Z
LAST-MODIFIED:20191212T201041Z
UID:1775-1596272400-1596301200@reach4housing.org
SUMMARY:FIRST TIME HOMEBUYE WORKSHOP- MIAMI/KENDALL
DESCRIPTION:First Time Homebuyer Workshop\nEn Espanol and In English \nSaturday\, August 1\, 2020\n9:00am – 5:00pm\nWhere: 9010 SW 137th Avenue\, Suite 116\, Miami FL 33186 \nCost: FREE for Miami Dade Residents \nall others $49 \nWhen preparing to buy your first home\, it’s important to plan ahead so you can manage your finances and be a successful homeowner. \nOur Homebuyer Education course will help you make sound decisions when buying a home.  It will not only help you save\, but will increase your knowledge of the home buying process. \nDo you wonder… \n\nIf you could buy your own home?\nHow you could qualify for a mortgage?\nWhat your credit report means?\n\nIf you answered yes to at least one of these questions\, this workshop is for you. \nDuring this workshop\, you will… \n\nFind out how you can qualify for up to $80\,000 in down payment assistance.\nUnderstand the home buying process from start to finish.\nDetermine how much you can afford.\nLearn about tax benefits of homeownership.\n\n  \nTo register for this class\, send email to housing@reach4housing.org   or call 786-260-6820 \n  \n** Children under the age of 18 WILL NOT BE ADMITTED to workshops conducted by REACH. We are sorry for any inconvenience this may cause. 
URL:https://reach4housing.org/event/first-time-homebuye-workshop-miami-kendall/
LOCATION:FL
END:VEVENT
BEGIN:VEVENT
DTSTART;TZID=UTC:20200808T130000
DTEND;TZID=UTC:20200808T170000
DTSTAMP:20260422T031047
CREATED:20191212T205447Z
LAST-MODIFIED:20191212T205447Z
UID:1802-1596891600-1596906000@reach4housing.org
SUMMARY:FIRST TIME HOMEBUYER WORKSHOP-TAMPA- PART 1
DESCRIPTION:  \n \nDuring this workshop\, you will: \n¨ Learn How to Avoid Costly Mortgage Mistakes \n¨ Find Out How To Qualify For Down Payment Assistance Programs \n¨ Learn the Homebuying Process from Start to Finish \n¨ Hear Tips on How to Prepare Your Budget and Credit for a Mortgage \n¨ Learn About Home Inspections\, Homeowners Insurance\, and Title \n¨ Earn Required Certificate for Pre-Purchase Education \n  \nTo register for this event\, please call 813-397-6208 or Email us at housing@reach4housing.org \nPARA ESPANOL LLAME: 561-491-1760 \n  \n 
URL:https://reach4housing.org/event/first-time-homebuyer-workshop-tampa-part-1-5/
LOCATION:FL
END:VEVENT
BEGIN:VEVENT
DTSTART;TZID=UTC:20200809T130000
DTEND;TZID=UTC:20200809T170000
DTSTAMP:20260422T031047
CREATED:20191212T205611Z
LAST-MODIFIED:20191212T205611Z
UID:1804-1596978000-1596992400@reach4housing.org
SUMMARY:FIRST TIME HOMEBUYER WORKSHOP-TAMPA- PART 2
DESCRIPTION:  \n \nDuring this workshop\, you will: \n¨ Learn How to Avoid Costly Mortgage Mistakes \n¨ Find Out How To Qualify For Down Payment Assistance Programs \n¨ Learn the Homebuying Process from Start to Finish \n¨ Hear Tips on How to Prepare Your Budget and Credit for a Mortgage \n¨ Learn About Home Inspections\, Homeowners Insurance\, and Title \n¨ Earn Required Certificate for Pre-Purchase Education \n  \nTo register for this event\, please call 813-397-6208 or Email us at housing@reach4housing.org \nPARA ESPANOL LLAME: 561-491-1760 \n  \n 
URL:https://reach4housing.org/event/first-time-homebuyer-workshop-tampa-part-2-5/
LOCATION:FL
END:VEVENT
BEGIN:VEVENT
DTSTART;TZID=UTC:20200816T110000
DTEND;TZID=UTC:20200816T190000
DTSTAMP:20260422T031047
CREATED:20191212T194157Z
LAST-MODIFIED:20191212T194157Z
UID:1753-1597575600-1597604400@reach4housing.org
SUMMARY:FIRST TIME HOMEBUYER WORKSHOP-MIAMI/KENDALL
DESCRIPTION:First Time Homebuyer Workshop\nEn Espanol and In English \nSunday\, AUGUST 16\, 2020\n11:00am – 7:00pm\nWhere: 9010 SW 137th Avenue\, Suite 116\, Miami FL 33186 \nCost: FREE for Miami Dade Residents \nall other cities $49 \nWhen preparing to buy your first home\, it’s important to plan ahead so you can manage your finances and be a successful homeowner. \nOur Homebuyer Education course will help you make sound decisions when buying a home.  It will not only help you save\, but will increase your knowledge of the home buying process. \nDo you wonder… \n\nIf you could buy your own home?\nHow you could qualify for a mortgage?\nWhat your credit report means?\n\nIf you answered yes to at least one of these questions\, this workshop is for you. \nDuring this workshop\, you will… \n\nFind out how you can qualify for up to $80\,000 in down payment assistance.\nUnderstand the home buying process from start to finish.\nDetermine how much you can afford.\nLearn about tax benefits of homeownership.\n\n  \nTo register for this class\, send email to housing@reach4housing.org   or call 786-260-6820 \n  \n** Children under the age of 18 WILL NOT BE ADMITTED to workshops conducted by REACH. We are sorry for any inconvenience this may cause. 
URL:https://reach4housing.org/event/first-time-homebuyer-workshop-miami-kendall-20/
LOCATION:FL
END:VEVENT
BEGIN:VEVENT
DTSTART;TZID=UTC:20200823T130000
DTEND;TZID=UTC:20200823T190000
DTSTAMP:20260422T031047
CREATED:20191223T182837Z
LAST-MODIFIED:20191223T182837Z
UID:1841-1598187600-1598209200@reach4housing.org
SUMMARY:FIRST TIME HOMEBUYER WORKSHOP- PALM BEACH GARDENS
DESCRIPTION:First Time Homebuyer Workshop\nSunday August 23\, 2020\n1:00pm – 7:00pm\nWhere: 8409 N Military Trail\, Suite 111\, Palm Beach Gardens\, FL 33410 \nCost: $49 \nWhen preparing to buy your first home\, it’s important to plan ahead so you can manage your finances and be a successful homeowner. \nOur Homebuyer Education course will help you make sound decisions when buying a home.  It will not only help you save\, but will increase your knowledge of the home buying process. \nDo you wonder… \n\nIf you could buy your own home?\nHow you could qualify for a mortgage?\nWhat your credit report means?\n\nIf you answered yes to atleast one of these questions\, this workshop is for you. \nDuring this workshop\, you will… \n\nFind out how you can qualify for up to $10\,000 in down payment assistance.\nUnderstand the home buying process from start to finish.\nDetermine how much you can afford.\nLearn about tax benefits of homeownership.\n\n  \nTo register for this class\, send email to housing@reach4housing.org   or call 561-491-1670
URL:https://reach4housing.org/event/first-time-homebuyer-workshop-palm-beach-gardens-13/
LOCATION:FL
END:VEVENT
END:VCALENDAR