BEGIN:VCALENDAR
VERSION:2.0
PRODID:-//A WordPress Site - ECPv6.15.20//NONSGML v1.0//EN
CALSCALE:GREGORIAN
METHOD:PUBLISH
X-ORIGINAL-URL:https://reach4housing.org
X-WR-CALDESC:Events for A WordPress Site
REFRESH-INTERVAL;VALUE=DURATION:PT1H
X-Robots-Tag:noindex
X-PUBLISHED-TTL:PT1H
BEGIN:VTIMEZONE
TZID:UTC
BEGIN:STANDARD
TZOFFSETFROM:+0000
TZOFFSETTO:+0000
TZNAME:UTC
DTSTART:20190101T000000
END:STANDARD
END:VTIMEZONE
BEGIN:VEVENT
DTSTART;TZID=UTC:20200905T130000
DTEND;TZID=UTC:20200905T170000
DTSTAMP:20260422T013402
CREATED:20191212T205714Z
LAST-MODIFIED:20191212T205714Z
UID:1806-1599310800-1599325200@reach4housing.org
SUMMARY:FIRST TIME HOMEBUYER WORKSHOP-TAMPA- PART 1
DESCRIPTION:  \n \nDuring this workshop\, you will: \n¨ Learn How to Avoid Costly Mortgage Mistakes \n¨ Find Out How To Qualify For Down Payment Assistance Programs \n¨ Learn the Homebuying Process from Start to Finish \n¨ Hear Tips on How to Prepare Your Budget and Credit for a Mortgage \n¨ Learn About Home Inspections\, Homeowners Insurance\, and Title \n¨ Earn Required Certificate for Pre-Purchase Education \n  \nTo register for this event\, please call 813-397-6208 or Email us at housing@reach4housing.org \nPARA ESPANOL LLAME: 561-491-1760 \n  \n 
URL:https://reach4housing.org/event/first-time-homebuyer-workshop-tampa-part-1-6/
LOCATION:FL
END:VEVENT
BEGIN:VEVENT
DTSTART;TZID=UTC:20200906T130000
DTEND;TZID=UTC:20200906T170000
DTSTAMP:20260422T013402
CREATED:20191212T205834Z
LAST-MODIFIED:20191212T205834Z
UID:1808-1599397200-1599411600@reach4housing.org
SUMMARY:FIRST TIME HOMEBUYER WORKSHOP-TAMPA-PART 2
DESCRIPTION:  \n \nDuring this workshop\, you will: \n¨ Learn How to Avoid Costly Mortgage Mistakes \n¨ Find Out How To Qualify For Down Payment Assistance Programs \n¨ Learn the Homebuying Process from Start to Finish \n¨ Hear Tips on How to Prepare Your Budget and Credit for a Mortgage \n¨ Learn About Home Inspections\, Homeowners Insurance\, and Title \n¨ Earn Required Certificate for Pre-Purchase Education \n  \nTo register for this event\, please call 813-397-6208 or Email us at housing@reach4housing.org \nPARA ESPANOL LLAME: 561-491-1760 \n  \n 
URL:https://reach4housing.org/event/first-time-homebuyer-workshop-tampa-part-2-6/
LOCATION:FL
END:VEVENT
BEGIN:VEVENT
DTSTART;TZID=UTC:20200912T090000
DTEND;TZID=UTC:20200912T170000
DTSTAMP:20260422T013402
CREATED:20191212T201212Z
LAST-MODIFIED:20191212T201212Z
UID:1777-1599901200-1599930000@reach4housing.org
SUMMARY:FIRST TIME HOMEBUYER WORKSHOP-MIAMI/KENDALL
DESCRIPTION:First Time Homebuyer Workshop\nEn Espanol and In English \nSaturday\, September 12\, 2020\n9:00am – 5:00pm\nWhere: 9010 SW 137th Avenue\, Suite 116\, Miami FL 33186 \nCost: FREE for Miami Dade Residents \nall other cities $49 \nWhen preparing to buy your first home\, it’s important to plan ahead so you can manage your finances and be a successful homeowner. \nOur Homebuyer Education course will help you make sound decisions when buying a home.  It will not only help you save\, but will increase your knowledge of the home buying process. \nDo you wonder… \n\nIf you could buy your own home?\nHow you could qualify for a mortgage?\nWhat your credit report means?\n\nIf you answered yes to at least one of these questions\, this workshop is for you. \nDuring this workshop\, you will… \n\nFind out how you can qualify for up to $80\,000 in down payment assistance.\nUnderstand the home buying process from start to finish.\nDetermine how much you can afford.\nLearn about tax benefits of homeownership.\n\n  \nTo register for this class\, send email to housing@reach4housing.org   or call 786-260-6820 \n  \n** Children under the age of 18 WILL NOT BE ADMITTED to workshops conducted by REACH. We are sorry for any inconvenience this may cause. 
URL:https://reach4housing.org/event/first-time-homebuyer-workshop-miami-kendall-27/
LOCATION:FL
END:VEVENT
BEGIN:VEVENT
DTSTART;TZID=UTC:20200920T090000
DTEND;TZID=UTC:20200920T190000
DTSTAMP:20260422T013402
CREATED:20191212T194343Z
LAST-MODIFIED:20191212T194343Z
UID:1755-1600592400-1600628400@reach4housing.org
SUMMARY:FIRST TIME HOMEBUYER WORKSHOP-MIAMI/KENDALL
DESCRIPTION:First Time Homebuyer Workshop\nEn Espanol and In English \nSunday\, SEPTEMBER 20\, 2020\n11:00am – 7:00pm\nWhere: 9010 SW 137th Avenue\, Suite 116\, Miami FL 33186 \nCost: FREE for Miami Dade Residents \nall other cities $49 \nWhen preparing to buy your first home\, it’s important to plan ahead so you can manage your finances and be a successful homeowner. \nOur Homebuyer Education course will help you make sound decisions when buying a home.  It will not only help you save\, but will increase your knowledge of the home buying process. \nDo you wonder… \n\nIf you could buy your own home?\nHow you could qualify for a mortgage?\nWhat your credit report means?\n\nIf you answered yes to at least one of these questions\, this workshop is for you. \nDuring this workshop\, you will… \n\nFind out how you can qualify for up to $80\,000 in down payment assistance.\nUnderstand the home buying process from start to finish.\nDetermine how much you can afford.\nLearn about tax benefits of homeownership.\n\n  \nTo register for this class\, send email to housing@reach4housing.org   or call 786-260-6820 \n  \n** Children under the age of 18 WILL NOT BE ADMITTED to workshops conducted by REACH. We are sorry for any inconvenience this may cause. 
URL:https://reach4housing.org/event/first-time-homebuyer-workshop-miami-kendall-21/
LOCATION:FL
END:VEVENT
END:VCALENDAR