BEGIN:VCALENDAR
VERSION:2.0
PRODID:-//A WordPress Site - ECPv6.15.20//NONSGML v1.0//EN
CALSCALE:GREGORIAN
METHOD:PUBLISH
X-WR-CALNAME:A WordPress Site
X-ORIGINAL-URL:https://reach4housing.org
X-WR-CALDESC:Events for A WordPress Site
REFRESH-INTERVAL;VALUE=DURATION:PT1H
X-Robots-Tag:noindex
X-PUBLISHED-TTL:PT1H
BEGIN:VTIMEZONE
TZID:America/New_York
BEGIN:DAYLIGHT
TZOFFSETFROM:-0500
TZOFFSETTO:-0400
TZNAME:EDT
DTSTART:20200308T070000
END:DAYLIGHT
BEGIN:STANDARD
TZOFFSETFROM:-0400
TZOFFSETTO:-0500
TZNAME:EST
DTSTART:20201101T060000
END:STANDARD
BEGIN:DAYLIGHT
TZOFFSETFROM:-0500
TZOFFSETTO:-0400
TZNAME:EDT
DTSTART:20210314T070000
END:DAYLIGHT
BEGIN:STANDARD
TZOFFSETFROM:-0400
TZOFFSETTO:-0500
TZNAME:EST
DTSTART:20211107T060000
END:STANDARD
BEGIN:DAYLIGHT
TZOFFSETFROM:-0500
TZOFFSETTO:-0400
TZNAME:EDT
DTSTART:20220313T070000
END:DAYLIGHT
BEGIN:STANDARD
TZOFFSETFROM:-0400
TZOFFSETTO:-0500
TZNAME:EST
DTSTART:20221106T060000
END:STANDARD
END:VTIMEZONE
BEGIN:VEVENT
DTSTART;TZID=America/New_York:20210807T100000
DTEND;TZID=America/New_York:20210807T160000
DTSTAMP:20260421T085835
CREATED:20210616T142451Z
LAST-MODIFIED:20210616T142451Z
UID:3489-1628330400-1628352000@reach4housing.org
SUMMARY:First-Time Homebuyer Workshop
DESCRIPTION:STOP!\nPlease click the button below and fill out our intake form before you move forward.\nYou must complete the intake form in order to receive your certificate of completion. \n			\n				Intake Form\n			\n				\n				\n				\n				\n				FIND OUT HOW YOU CAN QUALIFY FOR DOWN PAYMENT AND/OR CLOSING COST ASSISTANCE.CLASSES AVAILABLE IN ENGLISH\, SPANISH\, AND CREOLE.\nDo you wonder… \n• If you could buy your own home?• How you can qualify for a mortgage?• What your credit report means? \nIf you ask yourself these questions\, this workshop is for you. \nTo register for the class in English: go to: English \nTo register for the class in Spanish: go to: Spanish
URL:https://reach4housing.org/event/first-time-homebuyer-workshop/
LOCATION:FL
CATEGORIES:Homebuyer
END:VEVENT
BEGIN:VEVENT
DTSTART;TZID=America/New_York:20210814T100000
DTEND;TZID=America/New_York:20210814T120000
DTSTAMP:20260421T085835
CREATED:20210616T144810Z
LAST-MODIFIED:20210616T144810Z
UID:3508-1628935200-1628942400@reach4housing.org
SUMMARY:2 Hour First Time Homebuyer Workshop
DESCRIPTION:STOP!\nPlease click the button below and fill out our intake form before you move forward.\nYou must complete the intake form in order to receive your certificate of completion. \n			\n				Intake Form\n			\n				\n				\n				\n				\n				FIND OUT HOW YOU CAN QUALIFY FOR DOWN PAYMENT AND/OR CLOSING COST ASSISTANCE.CLASSES AVAILABLE IN BOTH ENGLISH AND SPANISH.\nNote: This is a 2 hour class that MUST be taken along with a 6 hour class for first time homebuyers who require 8 hours of class to qualify for down payment assistance. This workshop can be taken before or after the 6 hour class. For specifics\, please contact R.E.A.C.H. by email at housing@reach4housing.org or call 561-491-1670. \nDo you wonder… \n• If you could buy your own home?• How you can qualify for a mortgage?• What your credit report means?If you ask yourself these questions\, this workshop is for you.To register for the class in English: go to: English \nTo register for the class in Spanish: go to: Spanish
URL:https://reach4housing.org/event/3508/
LOCATION:FL
CATEGORIES:Homebuyer
END:VEVENT
BEGIN:VEVENT
DTSTART;TZID=America/New_York:20210821T100000
DTEND;TZID=America/New_York:20210821T160000
DTSTAMP:20260421T085835
CREATED:20210616T144207Z
LAST-MODIFIED:20210616T144207Z
UID:3499-1629540000-1629561600@reach4housing.org
SUMMARY:First-Time Homebuyer Workshop
DESCRIPTION:STOP!\nPlease click the button below and fill out our intake form before you move forward.\nYou must complete the intake form in order to receive your certificate of completion. \n			\n				Intake Form\n			\n				\n				\n				\n				\n				FIND OUT HOW YOU CAN QUALIFY FOR DOWN PAYMENT AND/OR CLOSING COST ASSISTANCE.CLASSES AVAILABLE IN ENGLISH\, SPANISH\, AND CREOLE.\nDo you wonder… \n• If you could buy your own home?• How you can qualify for a mortgage?• What your credit report means? \nIf you ask yourself these questions\, this workshop is for you. \nTo register for the class in English: go to: English \nTo register for the class in Spanish: go to: Spanish \nTo register for the class in Creole: go to: Creole
URL:https://reach4housing.org/event/first-time-homebuyer-workshop-2/
LOCATION:FL
CATEGORIES:Homebuyer
END:VEVENT
BEGIN:VEVENT
DTSTART;TZID=America/New_York:20210828T100000
DTEND;TZID=America/New_York:20210828T120000
DTSTAMP:20260421T085835
CREATED:20210616T145132Z
LAST-MODIFIED:20210616T145132Z
UID:3516-1630144800-1630152000@reach4housing.org
SUMMARY:2 Hour First Time Homebuyer Workshop
DESCRIPTION:STOP!\nPlease click the button below and fill out our intake form before you move forward.\nYou must complete the intake form in order to receive your certificate of completion. \n			\n				Intake Form\n			\n				\n				\n				\n				\n				FIND OUT HOW YOU CAN QUALIFY FOR DOWN PAYMENT AND/OR CLOSING COST ASSISTANCE.CLASSES AVAILABLE IN BOTH ENGLISH AND SPANISH.\nNote: This is a 2 hour class that MUST be taken along with a 6 hour class for first time homebuyers who require 8 hours of class to qualify for down payment assistance. This workshop can be taken before or after the 6 hour class. For specifics\, please contact R.E.A.C.H. by email at housing@reach4housing.org or call 561-491-1670. \nDo you wonder… \n• If you could buy your own home?• How you can qualify for a mortgage?• What your credit report means?If you ask yourself these questions\, this workshop is for you.To register for the class in English: go to: English \nTo register for the class in Spanish: go to: Spanish
URL:https://reach4housing.org/event/2-hour-first-time-homebuyer-workshop/
LOCATION:FL
CATEGORIES:Homebuyer
END:VEVENT
END:VCALENDAR