BEGIN:VCALENDAR
VERSION:2.0
PRODID:-//A WordPress Site - ECPv6.15.20//NONSGML v1.0//EN
CALSCALE:GREGORIAN
METHOD:PUBLISH
X-WR-CALNAME:A WordPress Site
X-ORIGINAL-URL:https://reach4housing.org
X-WR-CALDESC:Events for A WordPress Site
REFRESH-INTERVAL;VALUE=DURATION:PT1H
X-Robots-Tag:noindex
X-PUBLISHED-TTL:PT1H
BEGIN:VTIMEZONE
TZID:America/New_York
BEGIN:DAYLIGHT
TZOFFSETFROM:-0500
TZOFFSETTO:-0400
TZNAME:EDT
DTSTART:20210314T070000
END:DAYLIGHT
BEGIN:STANDARD
TZOFFSETFROM:-0400
TZOFFSETTO:-0500
TZNAME:EST
DTSTART:20211107T060000
END:STANDARD
BEGIN:DAYLIGHT
TZOFFSETFROM:-0500
TZOFFSETTO:-0400
TZNAME:EDT
DTSTART:20220313T070000
END:DAYLIGHT
BEGIN:STANDARD
TZOFFSETFROM:-0400
TZOFFSETTO:-0500
TZNAME:EST
DTSTART:20221106T060000
END:STANDARD
BEGIN:DAYLIGHT
TZOFFSETFROM:-0500
TZOFFSETTO:-0400
TZNAME:EDT
DTSTART:20230312T070000
END:DAYLIGHT
BEGIN:STANDARD
TZOFFSETFROM:-0400
TZOFFSETTO:-0500
TZNAME:EST
DTSTART:20231105T060000
END:STANDARD
END:VTIMEZONE
BEGIN:VEVENT
DTSTART;TZID=America/New_York:20220205T100000
DTEND;TZID=America/New_York:20220205T160000
DTSTAMP:20260420T224538
CREATED:20211108T115218Z
LAST-MODIFIED:20211108T115218Z
UID:4603-1644055200-1644076800@reach4housing.org
SUMMARY:6hr First Time Homebuyer Workshop
DESCRIPTION:Classes are available in English\, Spanish\, and Creole.\nThis 6-hour workshop is ONLY for first-time homebuyers who live in a city or county that requires 6 hours to qualify for down payment and/or closing cost assistance.*\n*Miami-Dade\, Broward\, and Palm Beach\nDo you wonder… \n• If you could buy your own home?• How you can qualify for a mortgage?• What your credit report means? \nIf you ask yourself these questions\, this workshop is for you. \n			\n			\n				\n				\n				\n				\n			\n				\n				\n				\n				\n				\n				\n				\n				\n				\n				\n				Step 1\n			\n				\n				\n				\n				\n				To register for the class in English\, click the button below. \n			\n				Register Now\n			\n			\n				\n				\n				\n				\n				\n				\n				\n				\n				\n				Step 2\n			\n				\n				\n				\n				\n				Please click the button below and fill out our intake form. \n			\n				Intake Form\n			\n				\n				\n				\n				\n				You must complete the intake form in order to receive your certificate of completion. \n			\n			\n				\n				\n				\n				\n			\n				\n				\n				\n				\n				\n				\n				\n				\n				\n				\n				\n			\n				\n				\n				\n				\n				Las clases están disponibles en inglés\, español y creole.\nEste taller de 6 horas es SOLO para compradores de vivienda por primera vez que viven en una ciudad o condado que requiere 6 horas para calificar para el pago inicial y / o asistencia con los costos de cierre.*\n* Miami-Dade\, Broward\, y Palm Beach\nTe preguntas \n• ¿Puedo Comprar mi casa?  \n• ¿Cómo puedo calificar para una hipoteca?  \n• ¿Qué significa el informe de crédito?  \nSi te haces UNA o MAS de estas preguntas\, este taller es para UD.  \n			\n			\n				\n				\n				\n				\n			\n				\n				\n				\n				\n				\n				\n				\n				\n				\n				\n				Paso 1\n			\n				\n				\n				\n				\n				Para inscribirse en la clase en español\, haga clic en el botón de abajo. \n			\n				Regístrate Ahora\n			\n			\n				\n				\n				\n				\n				\n				\n				\n				\n				\n				Paso 2\n			\n				\n				\n				\n				\n				Haga clic en el botón de abajo y complete el formulario de admisión. \n			\n				Intake Form\n			\n				\n				\n				\n				\n				Debe completar el formulario de admisión para recibir su certificado de finalización.
URL:https://reach4housing.org/event/6hr-first-time-homebuyer-workshop-3/
LOCATION:FL
CATEGORIES:Homebuyer
END:VEVENT
BEGIN:VEVENT
DTSTART;TZID=America/New_York:20220216T110000
DTEND;TZID=America/New_York:20220216T130000
DTSTAMP:20260420T224538
CREATED:20220209T124521Z
LAST-MODIFIED:20220209T124521Z
UID:5674-1645009200-1645016400@reach4housing.org
SUMMARY:Guardian Financial Free Realtors Webinar
DESCRIPTION:We are hosting a FREE Realtors Webinar in partnership with our sister company\, Guardian Financial Network\, LLC. All new and seasoned realtors in Florida are encouraged to participate. The webinar will be on Wednesday\, February 16th at 11:00 a.m. There will be a giveaway of flowers and chocolate for Valentine’s Day! \nClick here to register for the webinar: https://bit.ly/3u5RIMP
URL:https://reach4housing.org/event/guardian-financial-free-realtors-webinar/
LOCATION:FL
END:VEVENT
BEGIN:VEVENT
DTSTART;TZID=America/New_York:20220219T083000
DTEND;TZID=America/New_York:20220219T160000
DTSTAMP:20260420T224538
CREATED:20211108T114723Z
LAST-MODIFIED:20211108T114723Z
UID:4599-1645259400-1645286400@reach4housing.org
SUMMARY:8hr First Time Homebuyer Workshop
DESCRIPTION:Class is available in English ONLY\nThis 8-hour workshop is ONLY for first-time homebuyers who live in a city or county that requires 8 hours to qualify for down payment and/or closing cost assistance.*\n*Hillsborough\, Pinellas\, Pasco and surrounding counties\nDo you wonder… \n• If you could buy your own home?• How you can qualify for a mortgage?• What your credit report means? \nIf you ask yourself these questions\, this workshop is for you. \n			\n			\n				\n				\n				\n				\n			\n				\n				\n				\n				\n				\n				\n				\n				\n				\n				\n				Step 1\n			\n				\n				\n				\n				\n				To register for the class in English\, click the button below. \n			\n				Register Now\n			\n			\n				\n				\n				\n				\n				\n				\n				\n				\n				\n				Step 2\n			\n				\n				\n				\n				\n				Please click the button below and fill out our intake form. \n			\n				Intake Form\n			\n				\n				\n				\n				\n				You must complete the intake form in order to receive your certificate of completion.
URL:https://reach4housing.org/event/8hr-first-time-homebuyer-workshop-2/
LOCATION:FL
CATEGORIES:Homebuyer
END:VEVENT
BEGIN:VEVENT
DTSTART;TZID=America/New_York:20220226T100000
DTEND;TZID=America/New_York:20220226T160000
DTSTAMP:20260420T224538
CREATED:20211108T115712Z
LAST-MODIFIED:20211108T115712Z
UID:4607-1645869600-1645891200@reach4housing.org
SUMMARY:6hr First Time Homebuyer Workshop
DESCRIPTION:Classes are available in English\, Spanish\, and Creole.\nThis 6-hour workshop is ONLY for first-time homebuyers who live in a city or county that requires 6 hours to qualify for down payment and/or closing cost assistance.*\n*Miami-Dade\, Broward\, Palm Beach\, and surrounding counties\nDo you wonder… \n• If you could buy your own home?• How you can qualify for a mortgage?• What your credit report means? \nIf you ask yourself these questions\, this workshop is for you. \n			\n			\n				\n				\n				\n				\n			\n				\n				\n				\n				\n				\n				\n				\n				\n				\n				\n				Step 1\n			\n				\n				\n				\n				\n				To register for the class in English\, click the button below. \n			\n				Register Now\n			\n			\n				\n				\n				\n				\n				\n				\n				\n				\n				\n				Step 2\n			\n				\n				\n				\n				\n				Please click the button below and fill out our intake form. \n			\n				Intake Form\n			\n				\n				\n				\n				\n				You must complete the intake form in order to receive your certificate of completion. \n			\n			\n				\n				\n				\n				\n			\n				\n				\n				\n				\n				\n				\n				\n				\n				\n				\n				\n			\n				\n				\n				\n				\n				Las clases están disponibles en inglés\, español y creole.\nEste taller de 6 horas es SOLO para compradores de vivienda por primera vez que viven en una ciudad o condado que requiere 6 horas para calificar para el pago inicial y / o asistencia con los costos de cierre.*\n* Miami-Dade\, Broward\, Palm Beach\, y condados circundantes\nTe preguntas \n• ¿Puedo Comprar mi casa?  \n• ¿Cómo puedo calificar para una hipoteca?  \n• ¿Qué significa el informe de crédito?  \nSi te haces UNA o MAS de estas preguntas\, este taller es para UD.  \n			\n			\n				\n				\n				\n				\n			\n				\n				\n				\n				\n				\n				\n				\n				\n				\n				\n				Paso 1\n			\n				\n				\n				\n				\n				Para inscribirse en la clase en español\, haga clic en el botón de abajo. \n			\n				Regístrate Ahora\n			\n			\n				\n				\n				\n				\n				\n				\n				\n				\n				\n				Paso 2\n			\n				\n				\n				\n				\n				Haga clic en el botón de abajo y complete el formulario de admisión. \n			\n				Intake Form\n			\n				\n				\n				\n				\n				Debe completar el formulario de admisión para recibir su certificado de finalización.
URL:https://reach4housing.org/event/6hr-first-time-homebuyer-workshop-4/
LOCATION:FL
CATEGORIES:Homebuyer
END:VEVENT
END:VCALENDAR