BEGIN:VCALENDAR
VERSION:2.0
PRODID:-//A WordPress Site - ECPv6.15.20//NONSGML v1.0//EN
CALSCALE:GREGORIAN
METHOD:PUBLISH
X-WR-CALNAME:A WordPress Site
X-ORIGINAL-URL:https://reach4housing.org
X-WR-CALDESC:Events for A WordPress Site
REFRESH-INTERVAL;VALUE=DURATION:PT1H
X-Robots-Tag:noindex
X-PUBLISHED-TTL:PT1H
BEGIN:VTIMEZONE
TZID:America/New_York
BEGIN:DAYLIGHT
TZOFFSETFROM:-0500
TZOFFSETTO:-0400
TZNAME:EDT
DTSTART:20210314T070000
END:DAYLIGHT
BEGIN:STANDARD
TZOFFSETFROM:-0400
TZOFFSETTO:-0500
TZNAME:EST
DTSTART:20211107T060000
END:STANDARD
BEGIN:DAYLIGHT
TZOFFSETFROM:-0500
TZOFFSETTO:-0400
TZNAME:EDT
DTSTART:20220313T070000
END:DAYLIGHT
BEGIN:STANDARD
TZOFFSETFROM:-0400
TZOFFSETTO:-0500
TZNAME:EST
DTSTART:20221106T060000
END:STANDARD
BEGIN:DAYLIGHT
TZOFFSETFROM:-0500
TZOFFSETTO:-0400
TZNAME:EDT
DTSTART:20230312T070000
END:DAYLIGHT
BEGIN:STANDARD
TZOFFSETFROM:-0400
TZOFFSETTO:-0500
TZNAME:EST
DTSTART:20231105T060000
END:STANDARD
END:VTIMEZONE
BEGIN:VEVENT
DTSTART;TZID=America/New_York:20221210T083000
DTEND;TZID=America/New_York:20221210T160000
DTSTAMP:20260420T065040
CREATED:20221028T153103Z
LAST-MODIFIED:20221028T153103Z
UID:7068-1670661000-1670688000@reach4housing.org
SUMMARY:8hr IN-PERSON Homebuyer Education Workshop (English) Hillsborough County Only
DESCRIPTION:Class is available in English ONLY\nRegistration IS REQUIRED Limited Seats (50) \nThis 8-hour workshop is ONLY for first-time homebuyers who live in Hillsborough County Only.\nDo you wonder… \n• If you could buy your own home?• How you can qualify for a mortgage?• What your credit report means? \nRegistered now\, click this link:  https://attendee.gotowebinar.com/register/8107320882409903120\nNote: After registering for the workshop you will be directed to complete the Intake form and to upload required documents.
URL:https://reach4housing.org/event/8hr-in-person-homebuyer-education-workshop-english/
LOCATION:FL
ATTACH;FMTTYPE=:
END:VEVENT
END:VCALENDAR