BEGIN:VCALENDAR
VERSION:2.0
PRODID:-//A WordPress Site - ECPv6.15.20//NONSGML v1.0//EN
CALSCALE:GREGORIAN
METHOD:PUBLISH
X-WR-CALNAME:A WordPress Site
X-ORIGINAL-URL:https://reach4housing.org
X-WR-CALDESC:Events for A WordPress Site
REFRESH-INTERVAL;VALUE=DURATION:PT1H
X-Robots-Tag:noindex
X-PUBLISHED-TTL:PT1H
BEGIN:VTIMEZONE
TZID:America/New_York
BEGIN:DAYLIGHT
TZOFFSETFROM:-0500
TZOFFSETTO:-0400
TZNAME:EDT
DTSTART:20220313T070000
END:DAYLIGHT
BEGIN:STANDARD
TZOFFSETFROM:-0400
TZOFFSETTO:-0500
TZNAME:EST
DTSTART:20221106T060000
END:STANDARD
BEGIN:DAYLIGHT
TZOFFSETFROM:-0500
TZOFFSETTO:-0400
TZNAME:EDT
DTSTART:20230312T070000
END:DAYLIGHT
BEGIN:STANDARD
TZOFFSETFROM:-0400
TZOFFSETTO:-0500
TZNAME:EST
DTSTART:20231105T060000
END:STANDARD
BEGIN:DAYLIGHT
TZOFFSETFROM:-0500
TZOFFSETTO:-0400
TZNAME:EDT
DTSTART:20240310T070000
END:DAYLIGHT
BEGIN:STANDARD
TZOFFSETFROM:-0400
TZOFFSETTO:-0500
TZNAME:EST
DTSTART:20241103T060000
END:STANDARD
END:VTIMEZONE
BEGIN:VEVENT
DTSTART;TZID=America/New_York:20230603T100000
DTEND;TZID=America/New_York:20230603T160000
DTSTAMP:20260419T162720
CREATED:20221128T144807Z
LAST-MODIFIED:20221128T144807Z
UID:7189-1685786400-1685808000@reach4housing.org
SUMMARY:6-hour – Virtual Homebuyer Education Workshop English
DESCRIPTION:Classes are available in English\, Spanish\, and Creole. \nThis 6-hour workshop is ONLY for first-time homebuyers who live in a city or county that requires 6 hours to qualify for down payment and/or closing cost assistance. * \n  \nEffective 2/2/2023\, there is a fee for Homebuyer Education classes – $69 per person. Scholarships may be available for Miami-Dade County and City of Tampa  attendees. Note: For those individuals without a scholarship and a 2-hour one-on-one counseling session is required\, an additional fee of $65 will be charged. \nDo you wonder… \n\nIf you could buy your own home?\n• How can you qualify for a mortgage?\n• What does your credit report mean?\n\nIf you ask yourself these questions\, this workshop is for you. \nRegister now\, click this link: https://attendee.gotowebinar.com/register/1988015306768949262
URL:https://reach4housing.org/event/6-hour-miami-dade-and-surrounding-counties-9/
LOCATION:FL
END:VEVENT
BEGIN:VEVENT
DTSTART;TZID=America/New_York:20230603T100000
DTEND;TZID=America/New_York:20230603T160000
DTSTAMP:20260419T162720
CREATED:20221130T124857Z
LAST-MODIFIED:20221130T124857Z
UID:7266-1685786400-1685808000@reach4housing.org
SUMMARY:6 horas: Taller para primeros compradores de vivienda en español.
DESCRIPTION:Las clases están disponibles en inglés\, español y criollo. \nEste taller de 6 horas es SOLO para compradores de vivienda por primera vez que viven en una ciudad o condado que requiere 6 horas para aplicar al pago inicial y/o asistencia para los costos de cierre. \nA partir del 2/2/2023\, hay un costo para las clases de 6 horas de educación para compradores de vivienda: $69 por persona. \nLas becas están disponibles para los Residentes del condado de Miami-Dade y de la ciudad de Tampa. \nNota: Para aquellas personas que no tengan una beca y requiera una sesión de asesoramiento individual de 2 horas\, se cobrará una tarifa adicional de $65. \n  \nTe preguntas… \n\n¿Si pudieras comprar tu propia casa?\n¿Cómo puedes calificar para una hipoteca?\n¿Qué significa su reporte de crédito?\n\nSi te haces estas preguntas\, este taller es para ti. \n  \nPara registrarse haga clic en este enlace: https://attendee.gotowebinar.com/register/26562429118867983 \nNota: Después de registrarse para el taller\, serás dirigido a que complete el formulario de admisión y suba los documentos requeridos.
URL:https://reach4housing.org/event/6-horas-miami-dade-y-condados-del-alrededor-9/
LOCATION:FL
END:VEVENT
BEGIN:VEVENT
DTSTART;TZID=America/New_York:20230610T090000
DTEND;TZID=America/New_York:20230610T110000
DTSTAMP:20260419T162720
CREATED:20221123T133937Z
LAST-MODIFIED:20221123T133937Z
UID:7144-1686387600-1686394800@reach4housing.org
SUMMARY:2-hour – FREE Homebuyer Education Workshop
DESCRIPTION:2- hour Homebuyer workshop will cover down payment assistance and local funding programs plus mortgage info.  This will take you home…literally – the information YOU need to make good decisions and buy your first home.  Workshops available in Spanish and English and will give you educational credits toward an 8-hour certification class.  \nEffective 2/2/2023\, there is a fee for The 6-HOUR- Homebuyer Education classes – $69 per person.  \nScholarships may be available for City of Tampa eligible attendees and Miami Dade county attendees. Call 855-48-REACH to see if eligible.  \nNote: For those individuals without a scholarship a 2-hour individual counseling session is required\, an additional fee of $65 will be charged.  \nOnce you complete the 6 Hour Homebuyer Education Class you will receive the 8- hour Certificate. \n  \nDo you wonder… \n\nIf you could buy your own home?\n• How can you qualify for a mortgage?\n• What does your credit report mean?\n\nIf you ask yourself these questions\, this workshop is for you. \nRegister now\, click this link: https://attendee.gotowebinar.com/register/7427971131042614799 \n  \nNote: After registering for the workshop\, you will be directed to complete the Intake form and to upload required documents. 
URL:https://reach4housing.org/event/8-hour-hillsborough-county-and-surrounding-counties-6/
LOCATION:FL
END:VEVENT
BEGIN:VEVENT
DTSTART;TZID=America/New_York:20230610T090000
DTEND;TZID=America/New_York:20230610T110000
DTSTAMP:20260419T162720
CREATED:20230414T150452Z
LAST-MODIFIED:20230414T150452Z
UID:7508-1686387600-1686394800@reach4housing.org
SUMMARY:2 horas: Gratis Taller para primeros compradores de vivienda en español.
DESCRIPTION:  \nEl taller de 2 horas para compradores de vivienda cubrirá la asistencia para el pago inicial y los programas de financiamiento local y información sobre hipotecas. Esto lo llevará a casa… literalmente: la información que USTED necesita para tomar buenas decisiones y comprar su primera casa. \nLas becas están disponibles para los residentes elegibles de la ciudad de Tampa y del condado de Miami Dade. Llame al 855-48-REACH para saber si es elegible. \nLos talleres están disponibles en español e inglés y le darán créditos educativos para una clase de certificación de 8 horas. \nA partir del 2/2/2023\, hay una tarifa para las clases de 6 horas de educación para compradores de vivienda: $ 69 por persona. \nNota: Para aquellas personas que no tengan una beca y requiera una sesión de asesoramiento individual de 2 horas\, se cobrará una tarifa adicional de $65. \nUna vez que complete la clase de 6 horas de educación para compradores de vivienda\, recibirá el certificado de 8 horas. \nTe preguntas… \n¿Si pudieras comprar tu propia casa?\n• ¿Cómo puede calificar para una hipoteca?\n• ¿Qué significa su informe de crédito?\nSi te haces estas preguntas\, este taller es para ti. \nRegístrese ahora\, haga clic en este enlace: \n  \nNota: Después de registrarse para el taller\, se le indicará que complete el formulario de admisión y los documentos requeridos. \n 
URL:https://reach4housing.org/event/2-horas-taller-para-primeros-compradores-de-vivienda-para-residentes-de-la-florida-en-espanol/
LOCATION:FL
END:VEVENT
BEGIN:VEVENT
DTSTART;TZID=America/New_York:20230617T100000
DTEND;TZID=America/New_York:20230617T160000
DTSTAMP:20260419T162720
CREATED:20221128T145219Z
LAST-MODIFIED:20221128T145219Z
UID:7191-1686996000-1687017600@reach4housing.org
SUMMARY:6-hour – Virtual Homebuyer Education Workshop English
DESCRIPTION:Classes are available in English\, Spanish\, and Creole. \nThis 6-hour workshop is ONLY for first-time homebuyers who live in a city or county that requires 6 hours to qualify for down payment and/or closing cost assistance. * \n  \nEffective 2/2/2023\, there is a fee for Homebuyer Education classes – $69 per person. Scholarships may be available for Miami-Dade County and City of Tampa attendees. Note: For those individuals without a scholarship and a 2-hour one-on-one counseling session is required\, an additional fee of $65 will be charged. \nDo you wonder… \n\nIf you could buy your own home?\n• How can you qualify for a mortgage?\n• What does your credit report mean?\n\nIf you ask yourself these questions\, this workshop is for you. \nRegister now\, click this link: https://attendee.gotowebinar.com/register/3683839369287904272
URL:https://reach4housing.org/event/6-hour-miami-dade-and-surrounding-counties-10/
LOCATION:FL
END:VEVENT
BEGIN:VEVENT
DTSTART;TZID=America/New_York:20230617T100000
DTEND;TZID=America/New_York:20230617T160000
DTSTAMP:20260419T162720
CREATED:20221130T125525Z
LAST-MODIFIED:20221130T125525Z
UID:7268-1686996000-1687017600@reach4housing.org
SUMMARY:6 horas: Taller para primeros compradores de vivienda en español.
DESCRIPTION:Las clases están disponibles en inglés\, español y criollo. \n  \nEste taller de 6 horas es SOLO para compradores de vivienda por primera vez que viven en una ciudad o condado que requiere 6 horas para aplicar al pago inicial y/o asistencia para los costos de cierre.* \nA partir del 2/2/2023\, hay un costo para las clases de 6 horas de educación para compradores de vivienda: $69 por persona. \nLas becas están disponibles para los participantes del condado de Miami-Dade y residentes de la ciudad de Tampa. \nNota: Para aquellas personas que no tengan una beca y requiera una sesión de asesoramiento individual de 2 horas\, se cobrará una tarifa adicional de $65. \n  \nTe preguntas… \n\n¿Si pudieras comprar tu propia casa?\n¿Cómo puedes calificar para una hipoteca?\n¿Qué significa su reporte de crédito?\n\nSi te haces estas preguntas\, este taller es para ti. \n  \nPara registrarse haga clic en este enlace: https://attendee.gotowebinar.com/register/8871768436716397580 \nNota: Después de registrarse para el taller\, serás dirigido a que complete el formulario de admisión y suba los documentos requeridos.
URL:https://reach4housing.org/event/6-horas-miami-dade-y-condados-del-alrededor-10/
LOCATION:FL
END:VEVENT
END:VCALENDAR