BEGIN:VCALENDAR
VERSION:2.0
PRODID:-//A WordPress Site - ECPv6.15.20//NONSGML v1.0//EN
CALSCALE:GREGORIAN
METHOD:PUBLISH
X-WR-CALNAME:A WordPress Site
X-ORIGINAL-URL:https://reach4housing.org
X-WR-CALDESC:Events for A WordPress Site
REFRESH-INTERVAL;VALUE=DURATION:PT1H
X-Robots-Tag:noindex
X-PUBLISHED-TTL:PT1H
BEGIN:VTIMEZONE
TZID:UTC
BEGIN:STANDARD
TZOFFSETFROM:+0000
TZOFFSETTO:+0000
TZNAME:UTC
DTSTART:20250101T000000
END:STANDARD
END:VTIMEZONE
BEGIN:VEVENT
DTSTART;TZID=UTC:20260110T090000
DTEND;TZID=UTC:20260110T170000
DTSTAMP:20260419T162720
CREATED:20251105T174644Z
LAST-MODIFIED:20251105T175122Z
UID:19649-1768035600-1768064400@reach4housing.org
SUMMARY:8hr Virtual Homebuyer Education Workshop (English)
DESCRIPTION:Click here to register for this workshop👉:https://events.teams.microsoft.com/event/51b46235-a46a-493c-8c2f-571cb4c75edb@b2ceab64-e7cf-4c8f-8c14-69b255c41d57 \nTHIS WORKSHOP IS ONLINE!! \nYou MUST Register and remain the entire duration of the workshop to receive a Certificate of completion. \nMust complete the intake after you register. Click here👉: https://pdf.ac/pYZP-jhXm      *DO NOT LEAVE ANY FIELDS BLANK. Put N/A if does not apply. \nPlease be advised that if you plan to purchase a property in Miami Dade County\, you will be required  to attend a 2-hour in-person counseling session. This is necessary to meet  requirement for eligibility for the Miami Dade (HCD) Down Payment Assistance Program. \nEffective February 27\, 2025\, a fee of $100 per person will be required to attend the virtual Homebuyer Education classes. \nFor Miami Dade County Residents is free you must provide an ID or DL as proof that you reside in Miami Dade County prior to attending/receiving the link
URL:https://reach4housing.org/event/8hr-virtual-homebuyer-education-workshop-english-9/
LOCATION:FL
END:VEVENT
BEGIN:VEVENT
DTSTART;TZID=UTC:20260110T090000
DTEND;TZID=UTC:20260110T170000
DTSTAMP:20260419T162720
CREATED:20251113T011338Z
LAST-MODIFIED:20251113T011338Z
UID:19662-1768035600-1768064400@reach4housing.org
SUMMARY:Taller Virtual de Educación para Compradores de Casa (8 horas)
DESCRIPTION:  \nHaz clic aquí para registrarte en este taller👉  :https://events.teams.microsoft.com/event/c13c51f2-1fe5-4d27-90ab-72246f67fbb7@b2ceab64-e7cf-4c8f-8c14-69b255c41d57 \nESTE TALLER ES TOTALMENTE EN LÍNEA \nGRATIS para residentes del Condado de Miami-Dade.\nDebes enviar una identificación o licencia de conducir (ID o DL) como comprobante de residencia en el Condado de Miami-Dade antes de asistir o recibir el enlace. \nEnviar al correo: housing@reach4housing.org  👉 Agrega tu nombre y apellido en el asunto del correo. \nDebes registrarte y permanecer durante toda la duración del taller para recibir tu Certificado de Finalización. \nDespués de registrarte\, debes completar el formulario de admisión (intake) en\n👉 www.reach4housing.org\nNo dejes ningún espacio en blanco. Escribe “N/A” si no aplica. \nImportante: Si planeas comprar una propiedad en el Condado de Miami-Dade\, se requerirá que asistas a una sesión de consejería presencial de 2 horas\, necesaria para cumplir con los requisitos del Programa de Asistencia para el Pago Inicial (HCD) de Miami-Dade. \n  \nA partir del 27 de febrero de 2025\, se aplicará una tarifa de $100 por persona para asistir a los talleres de educación para compradores de vivienda. \nGRATIS para residentes del Condado de Miami-Dade (con comprobante de residencia mediante ID o DL). \n  \n¡Esperamos contar con tu participación en este evento y ayudarte a dar el primer paso hacia tu nuevo hogar! 🏠
URL:https://reach4housing.org/event/taller-virtual-de-educacion-para-compradores-de-casa-8-horas/
LOCATION:FL
END:VEVENT
BEGIN:VEVENT
DTSTART;TZID=UTC:20260127T180000
DTEND;TZID=UTC:20260127T210000
DTSTAMP:20260419T162720
CREATED:20251113T014201Z
LAST-MODIFIED:20251113T014201Z
UID:19667-1769536800-1769547600@reach4housing.org
SUMMARY:Virtual Homebuyer Education Workshop (English) – Two-Day Session
DESCRIPTION:Click here to register for this workshop👉:https://events.teams.microsoft.com/event/93bd2b6a-4de0-40db-93a7-876d940f5bd1@b2ceab64-e7cf-4c8f-8c14-69b255c41d57  \nTHIS WORKSHOP IS ONLINE!! \nFREE FOR Miami Dade County Residents you must provide an ID or DL as proof that you reside in Miami Dade County prior to attending/receiving the link. \nYou MUST Register\, to attend both days 1/27 -1/29 and remain the entire duration of the workshops to receive a Certificate of completion. \nMust complete the intake after you register. \nwww.reach4housing.org\n*DO NOT LEAVE ANY FIELDS BLANK. Put N/A if does not apply. \nPlease be advised that if you plan to purchase a property in Miami Dade County\, you will be required  to attend a 2-hour in-person counseling session. This is necessary to meet  requirement for eligibility for the Miami Dade (HCD) Down Payment Assistance Program. \nEffective February 27\, 2025\, a fee of $100 per person will be required to attend Homebuyer Education classes. \nFREE FOR Miami Dade County Residents you must provide an ID or DL as proof that you reside in Miami Dade County prior to attending/receiving the link.
URL:https://reach4housing.org/event/virtual-homebuyer-education-workshop-english-two-day-session/
LOCATION:FL
END:VEVENT
BEGIN:VEVENT
DTSTART;TZID=UTC:20260129T180000
DTEND;TZID=UTC:20260129T210000
DTSTAMP:20260419T162720
CREATED:20251113T015209Z
LAST-MODIFIED:20251113T015209Z
UID:19670-1769709600-1769720400@reach4housing.org
SUMMARY:Virtual Homebuyer Education Workshop (English) – Second-Day Session
DESCRIPTION:Click here to register for this workshop👉: https://events.teams.microsoft.com/event/22228927-78c4-4804-aeed-6df11a7d18b7@b2ceab64-e7cf-4c8f-8c14-69b255c41d57 \nTHIS WORKSHOP IS ONLINE!! \nFREE FOR Miami Dade County Residents you must provide an ID or DL as proof that you reside in Miami Dade County prior to attending/receiving the link. \nYou MUST Register\, to attend both days 1/27 -1/29 and remain the entire duration of the workshops to receive a Certificate of completion.\nMust complete the intake after you register. \nwww.reach4housing.org\n*DO NOT LEAVE ANY FIELDS BLANK. Put N/A if does not apply. \nPlease be advised that if you plan to purchase a property in Miami Dade County\, you will be required  to attend a 2-hour in-person counseling session. This is necessary to meet  requirement for eligibility for the Miami Dade (HCD) Down Payment Assistance Program. \nEffective February 27\, 2025\, a fee of $100 per person will be required to attend Homebuyer Education classes. \nFREE FOR Miami Dade County Residents you must provide an ID or DL as proof that you reside in Miami Dade County prior to attending/receiving the link. \n 
URL:https://reach4housing.org/event/virtual-homebuyer-education-workshop-english-second-day-session/
LOCATION:FL
END:VEVENT
BEGIN:VEVENT
DTSTART;TZID=UTC:20260131T083000
DTEND;TZID=UTC:20260131T163000
DTSTAMP:20260419T162720
CREATED:20251113T020906Z
LAST-MODIFIED:20251113T020906Z
UID:19673-1769848200-1769877000@reach4housing.org
SUMMARY:Free 8hr In-Person Homebuyer Education Workshop (English)
DESCRIPTION:Click here to register for this workshop👉: https://events.teams.microsoft.com/event/24a28866-36d8-4eb3-871d-737a6eec601b@b2ceab64-e7cf-4c8f-8c14-69b255c41d57 \nTHIS WORKSHOP IS IN PERSON!!\n    NOT ONLINE!! \nYou MUST Register and remain the entire duration of the workshop to receive a Certificate of completion.\nPlease arrive 10 minutes early to allow for sign in & seating. \nMust complete the intake after your register. \nGO to our website: www.reach4housing.org\n*DO NOT LEAVE ANY FIELDS BLANK. Put N/A if does not apply. \nLocation for this workshop : Children’s Board of Hillsborough County\nAddress: 1002 E. Palm Avenue\nTampa\, FL 33605
URL:https://reach4housing.org/event/free-8hr-in-person-homebuyer-education-workshop-english-18/
LOCATION:FL
END:VEVENT
END:VCALENDAR