BEGIN:VCALENDAR
VERSION:2.0
PRODID:-//A WordPress Site - ECPv6.15.20//NONSGML v1.0//EN
CALSCALE:GREGORIAN
METHOD:PUBLISH
X-WR-CALNAME:A WordPress Site
X-ORIGINAL-URL:https://reach4housing.org
X-WR-CALDESC:Events for A WordPress Site
REFRESH-INTERVAL;VALUE=DURATION:PT1H
X-Robots-Tag:noindex
X-PUBLISHED-TTL:PT1H
BEGIN:VTIMEZONE
TZID:UTC
BEGIN:STANDARD
TZOFFSETFROM:+0000
TZOFFSETTO:+0000
TZNAME:UTC
DTSTART:20250101T000000
END:STANDARD
END:VTIMEZONE
BEGIN:VEVENT
DTSTART;TZID=UTC:20260314T090000
DTEND;TZID=UTC:20260314T170000
DTSTAMP:20260420T152313
CREATED:20260204T233017Z
LAST-MODIFIED:20260225T203335Z
UID:19702-1773478800-1773507600@reach4housing.org
SUMMARY:FREE 8hr Virtual Homebuyer Education Workshop (English)
DESCRIPTION:THIS WORKSHOP IS ONLINE!! \nClick here to register for this workshop👉:https://events.teams.microsoft.com/event/590e62fa-3c79-4bd0-a12b-0872e216b2ae@b2ceab64-e7cf-4c8f-8c14-69b255c41d57  \nYou MUST Register and remain the entire duration of the workshop to receive a Certificate of completion.\nMust complete the intake after you register. \nwww.reach4housing.org\n*DO NOT LEAVE ANY FIELDS BLANK. Put N/A if does not apply. \nPlease be advised that if you plan to purchase a property in Miami Dade County\, you will be required  to attend a 2-hour counseling session. This is necessary to meet  requirement for eligibility for the Miami Dade (HCD) Down Payment Assistance Program. \n  \n 
URL:https://reach4housing.org/event/8hr-virtual-homebuyer-education-workshop-english-11/
LOCATION:FL
END:VEVENT
BEGIN:VEVENT
DTSTART;TZID=UTC:20260321T083000
DTEND;TZID=UTC:20260321T163000
DTSTAMP:20260420T152313
CREATED:20260211T221246Z
LAST-MODIFIED:20260211T221246Z
UID:19709-1774081800-1774110600@reach4housing.org
SUMMARY:Free 8hr In-Person Homebuyer Education Workshop (English)
DESCRIPTION:THIS WORKSHOP IS IN PERSON!!\n    NOT ONLINE!! \nClick here to register for this workshop👉:https://events.teams.microsoft.com/event/41b75d6a-9d28-441c-9d44-20f4cf2ead24@b2ceab64-e7cf-4c8f-8c14-69b255c41d57  \nYou MUST Register and remain the entire duration of the workshop to receive a Certificate of completion.\nPlease arrive 10 minutes early to allow for sign in & seating. \nMust complete the intake after your register. Go to our website: www.reach4housing.org\n*DO NOT LEAVE ANY FIELDS BLANK. Put N/A if does not apply. \nLocation for this workshop : City of Tampa City Center \n2555 E. Hanna Ave / Tampa\, Florida 33610 \n 
URL:https://reach4housing.org/event/free-8hr-in-person-homebuyer-education-workshop-english-20/
LOCATION:FL
END:VEVENT
BEGIN:VEVENT
DTSTART;TZID=UTC:20260322T123000
DTEND;TZID=UTC:20260322T183000
DTSTAMP:20260420T152313
CREATED:20260211T231617Z
LAST-MODIFIED:20260216T133603Z
UID:19718-1774182600-1774204200@reach4housing.org
SUMMARY:Free In-Person Homebuyer Education Workshop (English)-Miami Dade County
DESCRIPTION:THIS WORKSHOP IS IN PERSON!!\n    NOT ONLINE!! \nClick here to register for this workshop👉:https://events.teams.microsoft.com/event/fbdf0026-9db1-479b-8aab-6957e2cd9293@b2ceab64-e7cf-4c8f-8c14-69b255c41d57  \nYou MUST Register and remain the entire duration of the workshop to receive a Certificate of completion.\nPlease arrive 10 minutes early to allow for sign in & seating. \nMust complete the intake after your register.  Go to our website: www.reach4housing.org\n*DO NOT LEAVE ANY FIELDS BLANK. Put N/A if does not apply. \nLocation for this workshop : R.E.A.C.H Office \n7875 NW 12th Street\, \nSuite 101 \nDoral FL 33126
URL:https://reach4housing.org/event/free-8hr-in-person-homebuyer-education-workshop-english-miami-dade-county/
LOCATION:FL
END:VEVENT
END:VCALENDAR